BEGIN:VCALENDAR
VERSION:2.0
CALSCALE:GREGORIAN
METHOD:PUBLISH
PRODID://CEC//201523
BEGIN:VEVENT
DTSTAMP:20260419T135900
VTIMEZONE:America/Chicago
DTSTART:20251113T000000Z
DTEND:20251113T023000Z
UID:201523
SUMMARY:2025 White Oak Bayou Association (WOBA) Annual Meeting
LOCATION:Historic Heights Fire Station, 107 W 12th St., Houston, TX, 77008
DESCRIPTION:2025 White Oak Bayou Association (WOBA) Annual Meeting\n\n11/12/25 06:00 PM CST\n - 11/12/25 08:30 PM CST\Description:\nPresentation: Taking a Sustainability Approach to Bayou Health\nSpeaker: Dr. Lisa Morano, Professor of Biology and Microbiology at the University of Houston-Downtown (UHD).\nLocation: Historic Heights Fire Station, 107 West 12th St\nTime: 6:00pm to 8:30pm\n6:00 pm Social Hour / Networking: Complimentary Pizza & Refreshments Served\n7:00 pm Special Guests Introductions and Presentation\n\nRSVP\n\nCome meet fellow bayou advocates and local organizations who share in the purpose of WOBA: To promote greater public awareness, appreciation, and enjoyment of White Oak Bayou, its tributaries and environs by advocating the preservation, restoration, and maintenance of the natural wildlife habitats thereof, while promoting compatible educational and recreational opportunities within the area.\n\Location:\nHistoric Heights Fire Station\n107 W 12th St.\nHouston, TX 77008
X-ALT-DESC;FMTTYPE=text/html:2025 White Oak Bayou Association (WOBA) Annual Meeting<br /><br />11/12/25 06:00 PM CST - 11/12/25 08:30 PM CST<br />Description:<br /><p><strong>Presentation:</strong>&nbsp;Taking a Sustainability Approach to Bayou Health<br />
<strong>Speaker:&nbsp;</strong>Dr. Lisa Morano,&nbsp;Professor of Biology and Microbiology at the University of Houston-Downtown (UHD).<br />
<strong>Location:</strong> Historic Heights&nbsp;Fire Station, 107 West 12th St<br />
<strong>Time:</strong>&nbsp;6:00pm to 8:30pm<br />
6:00 pm Social Hour / Networking: Complimentary Pizza &amp; Refreshments Served<br />
7:00 pm Special Guests Introductions and Presentation</p>

<p><a href="https://www.zeffy.com/en-US/ticketing/2025-annual-meeting-17">RSVP</a></p>

<p>Come meet fellow bayou advocates and local organizations who share in the purpose of WOBA:&nbsp;<em>To promote greater public awareness, appreciation, and enjoyment of White Oak Bayou, its tributaries and environs by advocating the preservation, restoration, and maintenance of the natural wildlife habitats thereof, while promoting compatible educational and recreational opportunities within the area.</em></p>
<br />Location:<br />Historic Heights Fire Station<br />107 W 12th St.<br />Houston, TX 77008
PRIORITY:3
TRANSP:TRANSPARENT
BEGIN:VALARM
TRIGGER:-PT5M
ACTION:DISPLAY
DESCRIPTION:Reminder
END:VALARM
END:VEVENT
END:VCALENDAR
