BEGIN:VCALENDAR
VERSION:2.0
CALSCALE:GREGORIAN
METHOD:PUBLISH
PRODID://CEC//201679
BEGIN:VEVENT
DTSTAMP:20260419T135813
VTIMEZONE:America/Chicago
DTSTART:20251113T230000Z
DTEND:20251114T003000Z
UID:201679
SUMMARY:Working Group Appreciation Reception
LOCATION:Loro in the Heights, TX
DESCRIPTION:Working Group Appreciation Reception\n\n11/13/25 05:00 PM CST\n - 11/13/25 06:30 PM CST\Details:\nCEC’s Working Group Appreciation Reception celebrates our working group members and what they have accomplished together this year.\Location:\nLoro in the Heights\n\n, TX
X-ALT-DESC;FMTTYPE=text/html:Working Group Appreciation Reception<br /><br />11/13/25 05:00 PM CST - 11/13/25 06:30 PM CST<br />Details:<br />CEC&rsquo;s&nbsp;Working Group Appreciation&nbsp;Reception celebrates our working group members and what they have accomplished together this year.<br />Location:<br />Loro in the Heights<br /><br />, TX 
PRIORITY:3
TRANSP:TRANSPARENT
BEGIN:VALARM
TRIGGER:-PT5M
ACTION:DISPLAY
DESCRIPTION:Reminder
END:VALARM
END:VEVENT
END:VCALENDAR
