BEGIN:VCALENDAR
VERSION:2.0
CALSCALE:GREGORIAN
METHOD:PUBLISH
PRODID://CEC//201714
BEGIN:VEVENT
DTSTAMP:20260419T133504
VTIMEZONE:America/New_York
DTSTART:20251210T233000Z
DTEND:20251211T010000Z
UID:201714
SUMMARY:Buffalo Bayou Park Wellness Walk
LOCATION:The Water Works, 105 Sabine Street, Houston, TX, 77007
DESCRIPTION:Buffalo Bayou Park Wellness Walk\n\n12/10/25 06:30 PM EST\n - 12/10/25 08:00 PM EST\Description:\nJoin Buffalo Bayou Partnership on a free Wellness Walk led by Laura Conely, founder of Urban Paths. Anyone and everyone is invited to walk through the paths of Buffalo Bayou Park while discussing topics including mental and physical health as well as the benefits of being exposed to nature. \nWalk departs at 6:30pm at 105 Sabine Street and covers 3 miles in 1.5 hours. \nNEW: The first Wednesday of every month, translator Marcella Cabrera will join the group to offer the guided walk in Spanish. \nNUEVO: El primer miércoles de cada mes, la traductora Marcella Cabrera se unirá al grupo para ofrecer la caminata guiada en español.\Location:\nThe Water Works\n105 Sabine Street\nHouston, TX 77007
X-ALT-DESC;FMTTYPE=text/html:Buffalo Bayou Park Wellness Walk<br /><br />12/10/25 06:30 PM EST - 12/10/25 08:00 PM EST<br />Description:<br />Join Buffalo Bayou Partnership on a free Wellness Walk led by Laura Conely, founder of Urban Paths. Anyone and everyone is invited to walk through the paths of Buffalo Bayou Park while discussing topics including mental and physical health as well as the benefits of being exposed to nature.&nbsp;<br />
Walk departs at 6:30pm at 105 Sabine Street and covers 3 miles in 1.5 hours.&nbsp;<br />
NEW: The first Wednesday of every month, translator Marcella Cabrera will join the group to offer the guided walk in Spanish.&nbsp;<br />
NUEVO: El primer mi&eacute;rcoles de cada mes, la traductora Marcella Cabrera se unir&aacute; al grupo para ofrecer la caminata guiada en espa&ntilde;ol.<br />Location:<br />The Water Works<br />105 Sabine Street<br />Houston, TX 77007
PRIORITY:3
TRANSP:TRANSPARENT
BEGIN:VALARM
TRIGGER:-PT5M
ACTION:DISPLAY
DESCRIPTION:Reminder
END:VALARM
END:VEVENT
END:VCALENDAR
