BEGIN:VCALENDAR
VERSION:2.0
CALSCALE:GREGORIAN
METHOD:PUBLISH
PRODID://CEC//201858
BEGIN:VEVENT
DTSTAMP:20260419T153156
VTIMEZONE:America/Chicago
DTSTART:20251119T180000Z
DTEND:20251119T190000Z
UID:201858
SUMMARY:Virtual Lunch and Learn about Plastic Pollutions impacts on Wildlife and Solutions 
LOCATION:, TX
DESCRIPTION:Virtual Lunch and Learn about Plastic Pollutions impacts on Wildlife and Solutions \n\n11/19/25 12:00 PM CST\n - 11/19/25 01:00 PM CST\Description:\nPart of Houston Methodist's Office of Sustainability and HMRI Sustainability Committee's "Innovating Responsibiliy: The Eco-Sustainability Series." Elizabeth Virgil from Stop Plastics and Litter Along Shorelines (SPLASh) will discuss SPLASh's work to address pollution and its enviornmental and wildlife impacts, as well as long-term solutions that create a healthier and cleaner. 
X-ALT-DESC;FMTTYPE=text/html:Virtual Lunch and Learn about Plastic Pollutions impacts on Wildlife and Solutions <br /><br />11/19/25 12:00 PM CST - 11/19/25 01:00 PM CST<br />Description:<br />Part of Houston Methodist's Office of Sustainability and HMRI Sustainability Committee's &quot;Innovating Responsibiliy: The Eco-Sustainability Series.&quot; Elizabeth Virgil from Stop Plastics and Litter Along Shorelines (SPLASh) will discuss SPLASh's work to address pollution and its enviornmental and wildlife impacts, as well as long-term solutions that create a healthier and cleaner.&nbsp;
PRIORITY:3
TRANSP:TRANSPARENT
BEGIN:VALARM
TRIGGER:-PT5M
ACTION:DISPLAY
DESCRIPTION:Reminder
END:VALARM
END:VEVENT
END:VCALENDAR
