BEGIN:VCALENDAR
VERSION:2.0
CALSCALE:GREGORIAN
METHOD:PUBLISH
PRODID://CEC//202160
BEGIN:VEVENT
DTSTAMP:20260419T155152
VTIMEZONE:America/Chicago
DTSTART:20251118T010000Z
DTEND:20251118T020000Z
UID:202160
SUMMARY:Prep-Training with Air Alliance Houston for  commenting at TCEQ Hearing on Concrete Batch Plants
LOCATION:, TX
DESCRIPTION:Prep-Training with Air Alliance Houston for  commenting at TCEQ Hearing on Concrete Batch Plants\n\n11/17/25 07:00 PM CST\n - 11/17/25 08:00 PM CST\Description:\nAir Alliance is doing a virtual training Monday November 17th at 7 p.m. for a very important hybrid TCEQ Public Hearing on Concrete Batch Plants coming up on November 20 at 2 PM. The TCEQ meeting concerns two important rule updates affecting concrete batch plant permitting and public health will be considered. These rule changes have significant implications for communities living near industrial facilities, particularly in neighborhoods that already experience cumulative air pollution. Public comments and community participation at this meeting is essential to ensure that public health protections are prioritized.\n\nIn addition to providing a prep session, to support meaningful participation, Air Alliance Houston is providing free bus transportation to Austin for residents and community partners who would like to attend and/or provide public comment. Bus pickup is at 9:30 AM on Nov. 20 at the Carl Walker Junior Center in Firth Ward (4300 Noble St B, Houston, TX 77020)\n\nIf you can't make the virtual training, talking points are provided at one of the links below:\n\nHere are some important links - \nPrep session registration on Monday, November 17 at 7 pm: https://tinyurl.com/Prep-CBP-PublicHearing\nTalking Points: https://tinyurl.com/CBPtalkingpoints\nBus RSVP: https://tinyurl.com/Bus-CBP-PublicHearing\nLivestream link for the hearing - https://tinyurl.com/Livestream-CBP-PublicHearing
X-ALT-DESC;FMTTYPE=text/html:Prep-Training with Air Alliance Houston for  commenting at TCEQ Hearing on Concrete Batch Plants<br /><br />11/17/25 07:00 PM CST - 11/17/25 08:00 PM CST<br />Description:<br />Air Alliance is doing a virtual training Monday November 17th at 7 p.m.&nbsp;for&nbsp;a very important hybrid&nbsp;TCEQ Public Hearing on Concrete Batch Plants coming up on November 20 at 2 PM. The TCEQ meeting concerns two important rule updates affecting concrete batch plant permitting and public health will be considered. These rule changes have significant implications for communities living near industrial facilities, particularly in neighborhoods that already experience cumulative air pollution. Public comments and community participation at this meeting is essential to ensure that public health protections are prioritized.<br />
<br />
In addition to providing a prep session, to support meaningful participation, Air Alliance Houston is providing free bus transportation to Austin for residents and community partners who would like to attend and/or provide public comment.&nbsp;Bus pickup is at 9:30 AM on Nov. 20 at the Carl Walker Junior Center in Firth Ward (4300 Noble St B, Houston, TX 77020)<br />
<br />
If you can't make the virtual training, talking points are provided at one of the links below:<br />
<br />
Here are some important links -&nbsp;<br />
<strong>Prep session registration on Monday, November 17 at 7 pm</strong>:<a href="https://tinyurl.com/Prep-CBP-PublicHearing"> https://tinyurl.com/Prep-CBP-PublicHearing</a><br />
<strong>Talking Points</strong>:<a href="https://tinyurl.com/CBPtalkingpoints"> https://tinyurl.com/CBPtalkingpoints</a><br />
<strong>Bus RSVP:</strong><a href="https://tinyurl.com/Bus-CBP-PublicHearing"> https://tinyurl.com/Bus-CBP-PublicHearing</a><br />
<strong>Livestream link for the hearing</strong> - <a href="/tinyurl.com/Livestream-CBP-PublicHearing">https://tinyurl.com/Livestream-CBP-PublicHearing</a>
PRIORITY:3
TRANSP:TRANSPARENT
BEGIN:VALARM
TRIGGER:-PT5M
ACTION:DISPLAY
DESCRIPTION:Reminder
END:VALARM
END:VEVENT
END:VCALENDAR
