BEGIN:VCALENDAR
VERSION:2.0
CALSCALE:GREGORIAN
METHOD:PUBLISH
PRODID://CEC//202161
BEGIN:VEVENT
DTSTAMP:20260419T135859
VTIMEZONE:America/Chicago
DTSTART:20251120T200000Z
DTEND:20251120T230000Z
UID:202161
SUMMARY:TCEQâ€™s hybrid Concrete Batch Plant Hearing 
LOCATION:, TX
DESCRIPTION:TCEQâ€™s hybrid Concrete Batch Plant Hearing \n\n11/20/25 02:00 PM CST\n - 11/20/25 05:00 PM CST\Description:\nJoin Air Alliance Houston for TCEQ’s Concrete Batch Plant Hearing on Thursday November 20th. Virtual Training tonight, 11/17/2025 at 7 p.m.!\n\nThe hybrid TCEQ Public Hearing Concrete Batch Plants on November 20 at 2 PM, concern two important rule updates affecting concrete batch plant permitting and public health will be considered. These rule changes have significant implications for communities living near industrial facilities, particularly in neighborhoods that already experience cumulative air pollution. Public comments and community participation at this meeting is essential to ensure that public health protections are prioritized.\n\nTo support meaningful participation, Air Alliance Houston is providing free bus transportation to Austin for residents and community partners who would like to attend and/or provide public comment. Bus pickup is at 9:30 AM on Nov. 20 at the Carl Walker Junior Center in Firth Ward (4300 Noble St B, Houston, TX 77020)\n\nPlease share this information through your networks, listservs, WhatsApp groups, social pages, or weekly newsletters\n\nBus RSVP: https://tinyurl.com/Bus-CBP-PublicHearing\n\nTalking Points: https://tinyurl.com/CBPtalkingpoints\n\nPrep session registration on Monday, November 17 at 7 pm: https://tinyurl.com/Prep-CBP-PublicHearing \n\nLivestream link - https://tinyurl.com/Livestream-CBP-PublicHearing\n\nAir Alliance is also hosting a watch party locally at our Houston Office (2520 Caroline St #100, Houston TX 77004) at 2 PM. Please RSVP here: https://docs.google.com/forms/d/e/1FAIpQLSefwlOBZDRpqrdyjqZ5sCrQaxHQE2Dicu6xw-B9OK_4SbeTGg/viewform. \n
X-ALT-DESC;FMTTYPE=text/html:TCEQâ€™s hybrid Concrete Batch Plant Hearing <br /><br />11/20/25 02:00 PM CST - 11/20/25 05:00 PM CST<br />Description:<br /><p>Join Air Alliance Houston for TCEQ&rsquo;s Concrete Batch Plant Hearing on Thursday November 20th. Virtual Training tonight, 11/17/2025 at 7 p.m.!</p>

<p>The hybrid&nbsp;TCEQ Public Hearing Concrete Batch Plants on November 20 at 2 PM, concern two important rule updates affecting concrete batch plant permitting and public health will be considered. These rule changes have significant implications for communities living near industrial facilities, particularly in neighborhoods that already experience cumulative air pollution. Public comments and community participation at this meeting is essential to ensure that public health protections are prioritized.</p>

<p>To support meaningful participation, Air Alliance Houston is providing free bus transportation to Austin for residents and community partners who would like to attend and/or provide public comment.&nbsp;Bus pickup is at 9:30 AM on Nov. 20 at the Carl Walker Junior Center in Firth Ward (4300 Noble St B, Houston, TX 77020)</p>

<p>Please share this information through your networks, listservs, WhatsApp groups, social pages, or weekly newsletters</p>

<p>Bus RSVP: <a href="https://tinyurl.com/Bus-CBP-PublicHearing"><strong>https://tinyurl.com/Bus-CBP-PublicHearing</strong></a></p>

<p>Talking Points: <a href="https://tinyurl.com/CBPtalkingpoints"><strong>https://tinyurl.com/CBPtalkingpoints</strong></a></p>

<p>Prep session registration on Monday, November 17 at 7 pm: <a href="https://tinyurl.com/Prep-CBP-PublicHearing"><strong>https://tinyurl.com/Prep-CBP-PublicHearing</strong></a>&nbsp;</p>

<p>Livestream link - <a href="https://tinyurl.com/Livestream-CBP-PublicHearing"><strong>https://tinyurl.com/Livestream-CBP-PublicHearing</strong></a></p>

<p>Air Alliance is also hosting a watch party locally at our Houston Office (2520 Caroline St #100, Houston TX 77004) at 2 PM. Please RSVP&nbsp;here: <a href="https://docs.google.com/forms/d/e/1FAIpQLSefwlOBZDRpqrdyjqZ5sCrQaxHQE2Dicu6xw-B9OK_4SbeTGg/viewform"><strong>https://docs.google.com/forms/d/e/1FAIpQLSefwlOBZDRpqrdyjqZ5sCrQaxHQE2Dicu6xw-B9OK_4SbeTGg/viewform</strong></a>.&nbsp;</p>

PRIORITY:3
TRANSP:TRANSPARENT
BEGIN:VALARM
TRIGGER:-PT5M
ACTION:DISPLAY
DESCRIPTION:Reminder
END:VALARM
END:VEVENT
END:VCALENDAR
