BEGIN:VCALENDAR
VERSION:2.0
CALSCALE:GREGORIAN
METHOD:PUBLISH
PRODID://CEC//202286
BEGIN:VEVENT
DTSTAMP:20260419T133718
VTIMEZONE:America/Chicago
DTSTART:20251212T150000Z
DTEND:20251212T180000Z
UID:202286
SUMMARY:HPB Green Team @ Wipprecht
LOCATION:Wipprecht, 5105 Wipprecht Street, Houston, TX, 77026
DESCRIPTION:HPB Green Team @ Wipprecht\n\n12/12/25 09:00 AM CST\n - 12/12/25 12:00 PM CST\Description:\nJoin Houston Parks Board for this volunteer event at the Wipprecht Site along Hunting Bayou, located at 5105 Wipprecht Street, Houston, TX 77026, on December 12 from 9 AM -12 PM. Volunteers will be doing prairie restoration, while will include planting native forbs and grasses.\Details:\nJoin Houston Parks Board for this volunteer event at the Wipprecht Site along Hunting Bayou, located at 5105 Wipprecht Street, Houston, TX 77026, on December 12 from 9 AM -12 PM. Volunteers will be doing prairie restoration, while will include planting native forbs and grasses.\n\nPlease be sure to wear closed-toed shoes that you do not mind getting dirty, weather-appropriate clothing (long sleeves recommended). It is also important to bring your own refillable water bottle; Houston Parks Board will have a water cooler that volunteers are welcome to refill from! \n\nParking for the event will be street parking, with the above address taking you to the location along the street where volunteers can park. \n\Location:\nWipprecht\n5105 Wipprecht Street\nHouston, TX 77026
X-ALT-DESC;FMTTYPE=text/html:HPB Green Team @ Wipprecht<br /><br />12/12/25 09:00 AM CST - 12/12/25 12:00 PM CST<br />Description:<br />Join Houston Parks Board for this volunteer event at the Wipprecht Site along Hunting Bayou, located at&nbsp;<a href="https://maps.app.goo.gl/AuJzpHXkGmD551tF9">5105 Wipprecht Street, Houston, TX 77026</a>, on December 12 from 9 AM -12 PM.&nbsp;Volunteers will be doing&nbsp;prairie restoration, while will include planting native forbs and grasses.<br />Details:<br /><p>Join Houston Parks Board for this volunteer event at the Wipprecht Site along Hunting Bayou, located at&nbsp;<a href="https://maps.app.goo.gl/AuJzpHXkGmD551tF9">5105 Wipprecht Street, Houston, TX 77026</a>, on December 12 from 9 AM -12 PM.&nbsp;Volunteers will be doing&nbsp;prairie restoration, while will include planting native forbs and grasses.</p>

<p>Please be sure to wear closed-toed shoes that you do not mind getting dirty, weather-appropriate clothing (long sleeves recommended). It is also important to bring your own refillable water bottle; Houston Parks Board will have a water cooler that volunteers are welcome to refill from!&nbsp;</p>

<p>Parking for the event will be street parking, with the above address taking you to the location along the street where volunteers can park.&nbsp;</p>
<br />Location:<br />Wipprecht<br />5105 Wipprecht Street<br />Houston, TX 77026
PRIORITY:3
TRANSP:TRANSPARENT
BEGIN:VALARM
TRIGGER:-PT5M
ACTION:DISPLAY
DESCRIPTION:Reminder
END:VALARM
END:VEVENT
END:VCALENDAR
