BEGIN:VCALENDAR
VERSION:2.0
CALSCALE:GREGORIAN
METHOD:PUBLISH
PRODID://CEC//202287
BEGIN:VEVENT
DTSTAMP:20260419T133622
VTIMEZONE:America/Chicago
DTSTART:20260109T150000Z
DTEND:20260109T180000Z
UID:202287
SUMMARY:HPB Green Team @ Coolgreen Nursery
LOCATION:Wipprecht, 12800 Texaco Rd, Houston, TX, 77013
DESCRIPTION:HPB Green Team @ Coolgreen Nursery\n\n01/09/26 09:00 AM CST\n - 01/09/26 12:00 PM CST\Description:\nNew year means new trees to be planted! Join Houston Parks Board at our Coolgreen Nursery on January 9th at 9 am to help pot-up tree saplings for the upcoming year!\Details:\nWith a new years, comes more opportunities to volunteer and support our bayous. \n\nJoin Houston Parks Board at our Coolgreen Nursery to pot-up 500 tree saplings for our upcoming plantings!! \n\n \n\nWe will be meeting at 12800 Texaco Rd., Houston 77013. \n\nStart time is 9 a.m. and should last about 3 hours, until noon.\n\nPlease bring the following gear with you: closed-toed shoes, long pants, refillable water bottle, sun/weather protection (hats, sunglasses, insect repllent), and some excitement.\n\nParking will be on site at the nursery. There is a portable restroom available, along with water refills for your bottle. \n\Location:\nWipprecht\n12800 Texaco Rd\nHouston, TX 77013
X-ALT-DESC;FMTTYPE=text/html:HPB Green Team @ Coolgreen Nursery<br /><br />01/09/26 09:00 AM CST - 01/09/26 12:00 PM CST<br />Description:<br />New year means new trees to be planted! Join Houston Parks Board at our Coolgreen Nursery on January 9th at 9 am to help pot-up tree saplings for the upcoming year!<br />Details:<br /><p>With a new years, comes more opportunities to volunteer and support our bayous.&nbsp;</p>

<p>Join Houston Parks Board at our Coolgreen Nursery to pot-up 500 tree saplings for our upcoming plantings!!&nbsp;</p>

<p>&nbsp;</p>

<p>We will be meeting at 12800 Texaco Rd., Houston 77013.&nbsp;</p>

<p>Start time is 9 a.m. and should last about 3 hours, until noon.</p>

<p>Please bring the following gear with you: closed-toed shoes, long pants, refillable water bottle, sun/weather protection (hats, sunglasses, insect repllent), and some excitement.</p>

<p>Parking will be on site at the nursery. There is a portable restroom available, along with water refills for your bottle.&nbsp;</p>
<br />Location:<br />Wipprecht<br />12800 Texaco Rd<br />Houston, TX 77013
PRIORITY:3
TRANSP:TRANSPARENT
BEGIN:VALARM
TRIGGER:-PT5M
ACTION:DISPLAY
DESCRIPTION:Reminder
END:VALARM
END:VEVENT
END:VCALENDAR
