BEGIN:VCALENDAR
VERSION:2.0
CALSCALE:GREGORIAN
METHOD:PUBLISH
PRODID://CEC//202289
BEGIN:VEVENT
DTSTAMP:20260419T115209
VTIMEZONE:America/Chicago
DTSTART:20260213T150000Z
DTEND:20260213T180000Z
UID:202289
SUMMARY:HPB Green Team @ Lafferty Oaks
LOCATION:Lafferty Oaks, 603 Winterwood Way, Houston, TX, 77013
DESCRIPTION:HPB Green Team @ Lafferty Oaks\n\n02/13/26 09:00 AM CST\n - 02/13/26 12:00 PM CST\Description:\nLove is in the air and for the trees!\n\nJoin Houston Parks Board at Lafferty Oaks on February 13th at 9 am to help install trees along our Bayou Greenways Trals along Hunting Bayou.\n\Details:\n“I am the Lorax. I speak for the trees. I speak for the trees for the trees have no tongues.”\n- Dr. Seuss, The Lorax\n\n \n\nJoin Houston Parks Board along Hunting Bayou, on the Bayou Greenways Trail to plant 5 gal trees. Volunteers will dig holes, plant trees, and mulch afterwards.\n\n \n\nWe will be meeting at 603 Winterwood Way, Houston 77013.\n\nStart time is 9 a.m. and should last about 3 hours, until noon.\n\nPlease bring the following gear with you: closed-toed shoes, long pants, refillable water bottle, sun/weather protection (hats, sunglasses, insect repellent), and some excitement!\n\nThere is no restroom on site - please plan to make a pit stop prior to arrival. We will have drinking water refills available.\n\nStreet parking along Lafferty Oaks St and Winterwood Way. *Avoid blocking driveways.*\n\n \n\Location:\nLafferty Oaks\n603 Winterwood Way\nHouston, TX 77013
X-ALT-DESC;FMTTYPE=text/html:HPB Green Team @ Lafferty Oaks<br /><br />02/13/26 09:00 AM CST - 02/13/26 12:00 PM CST<br />Description:<br /><p>Love is in the air and for the trees!</p>

<p>Join Houston Parks Board at Lafferty Oaks on February 13th at 9 am to help install trees along our Bayou Greenways Trals along Hunting Bayou.</p>
<br />Details:<br /><p>&ldquo;I am the Lorax. I speak for the trees. I speak for the trees for the trees have no tongues.&rdquo;<br />
-&nbsp;Dr. Seuss,&nbsp;<a href="https://www.goodreads.com/work/quotes/886002">The Lorax</a></p>

<p>&nbsp;</p>

<p>Join Houston Parks Board along Hunting Bayou, on the Bayou Greenways Trail to plant 5 gal trees. Volunteers will dig holes, plant trees, and mulch afterwards.</p>

<p>&nbsp;</p>

<p>We will be meeting at 603 Winterwood Way, Houston 77013.</p>

<p>Start time is 9 a.m. and should last about 3 hours, until noon.</p>

<p>Please bring the following gear with you: closed-toed shoes, long pants, refillable water bottle, sun/weather protection (hats, sunglasses, insect repellent), and some excitement!</p>

<p>There is&nbsp;no restroom&nbsp;on site - please plan to make a pit stop prior to arrival. We will have drinking water refills available.</p>

<p>Street parking along Lafferty Oaks St and Winterwood Way. *Avoid blocking driveways.*</p>

<p>&nbsp;</p>
<br />Location:<br />Lafferty Oaks<br />603 Winterwood Way<br />Houston, TX 77013
PRIORITY:3
TRANSP:TRANSPARENT
BEGIN:VALARM
TRIGGER:-PT5M
ACTION:DISPLAY
DESCRIPTION:Reminder
END:VALARM
END:VEVENT
END:VCALENDAR
