BEGIN:VCALENDAR
VERSION:2.0
CALSCALE:GREGORIAN
METHOD:PUBLISH
PRODID://CEC//202290
BEGIN:VEVENT
DTSTAMP:20260419T121037
VTIMEZONE:America/Chicago
DTSTART:20260313T140000Z
DTEND:20260313T170000Z
UID:202290
SUMMARY:HPB Green Team @ Watonga
LOCATION:Watonga, 4408 Watonga Blvd, Houston, TX, 77092
DESCRIPTION:HPB Green Team @ Watonga\n\n03/13/26 09:00 AM CST\n - 03/13/26 12:00 PM CST\Description:\nSpring has sprung!\n\nJoin Houston Parks Board at Watonga on March 13th at 9 am to plant native prairie species to help the bat colony under Watonga Parkway bridge!\n\Details:\nJoin Houston Parks Board along White Oak Bayou at our Watonga Prairie in efforts to help the bats!!\n\nVolunteers will be planting native prairie species at the Watonga Prairie to help increase plant diversity and support the bat colony living under the Watonga Parkway bridge.\n\n \n\nWe will be meeting at 4480 Watonga Blvd, Houston, TX 77092\n\nStart time is 9 a.m. and should last about 3 hours, until noon.\n\nPlease bring the following gear with you: closed-toed shoes, long pants, refillable water bottle, sun/weather protection (hats, sunglasses, insect repllent), and some excitement!\n\nThere is no restroom on site - please plan to make a pitstop prior to arrival. We will have drinking water refills available.\n\nParking is at Watonga Parkway parking lot.\n\Location:\nWatonga\n4408 Watonga Blvd\nHouston, TX 77092
X-ALT-DESC;FMTTYPE=text/html:HPB Green Team @ Watonga<br /><br />03/13/26 09:00 AM CST - 03/13/26 12:00 PM CST<br />Description:<br /><p>Spring has sprung!</p>

<p>Join Houston Parks Board at Watonga on March 13th at 9 am to plant native prairie species to help the bat colony under Watonga Parkway bridge!</p>
<br />Details:<br /><p>Join Houston Parks Board along White Oak Bayou at our Watonga Prairie in efforts to help the bats!!</p>

<p>Volunteers will be planting native prairie species at the Watonga Prairie to help increase plant diversity and support the bat colony living under the Watonga Parkway bridge.</p>

<p>&nbsp;</p>

<p>We will be meeting at&nbsp;4480 Watonga Blvd, Houston, TX 77092</p>

<p>Start time is 9 a.m. and should last about 3 hours, until noon.</p>

<p>Please bring the following gear with you: closed-toed shoes, long pants, refillable water bottle, sun/weather protection (hats, sunglasses, insect repllent), and some excitement!</p>

<p>There is&nbsp;no restroom&nbsp;on site - please plan to make a pitstop prior to arrival. We will have drinking water refills available.</p>

<p>Parking is at Watonga Parkway parking lot.</p>
<br />Location:<br />Watonga<br />4408 Watonga Blvd<br />Houston, TX 77092
PRIORITY:3
TRANSP:TRANSPARENT
BEGIN:VALARM
TRIGGER:-PT5M
ACTION:DISPLAY
DESCRIPTION:Reminder
END:VALARM
END:VEVENT
END:VCALENDAR
