BEGIN:VCALENDAR
VERSION:2.0
CALSCALE:GREGORIAN
METHOD:PUBLISH
PRODID://CEC//202291
BEGIN:VEVENT
DTSTAMP:20260419T133623
VTIMEZONE:America/Chicago
DTSTART:20260410T140000Z
DTEND:20260410T170000Z
UID:202291
SUMMARY:HPB Green Team @ Simsbrook
LOCATION:Simsbrook, 4725 Simsbrook Dr,, Houston, TX, 77045
DESCRIPTION:HPB Green Team @ Simsbrook\n\n04/10/26 09:00 AM CST\n - 04/10/26 12:00 PM CST\Description:\nHappy Earth Month! Join Houston Parks Board at Simsbrook on April 10th at 9 am to plant a new native landscape about Bayou Greenways Trail!\n\Details:\n\n\nJoin Houston Parks Board this Earth month in building a new native landscape for all to enjoy!\n\nVolunteers will be planting native species at a new native landscape along our Bayou Greenways Trail. Plants will include forbs, grasses, shrubs and trees.\n\n \n\nWe will be meeting at 4725 Simsbrook Dr, Houston 77045\n\nParking is street parking along Simsbrook Dr.\n\nStart time is 9 a.m. and should last about 3 hours, until noon.\n\nPlease bring the following gear with you: closed-toed shoes, long pants, refillable water bottle, sun/weather protection (hats, sunglasses, insect repellent), and some excitement!\n\nThere is no restroom on site - please plan to make a pitstop prior to arrival. We will have drinking water refills available.\n\Location:\nSimsbrook\n4725 Simsbrook Dr,\nHouston, TX 77045
X-ALT-DESC;FMTTYPE=text/html:HPB Green Team @ Simsbrook<br /><br />04/10/26 09:00 AM CST - 04/10/26 12:00 PM CST<br />Description:<br /><p>Happy Earth Month! Join Houston Parks Board at Simsbrook on April 10th at 9 am to plant a new native landscape about Bayou Greenways Trail!</p>
<br />Details:<br /><p><!-- x-tinymce/html --></p>

<p>Join Houston Parks Board this Earth month in building a new native landscape for all to enjoy!</p>

<p>Volunteers will be planting native species at a new native landscape along our Bayou Greenways Trail. Plants will include forbs, grasses, shrubs and trees.</p>

<p>&nbsp;</p>

<p>We will be meeting at 4725 Simsbrook Dr, Houston 77045</p>

<p>Parking is street parking along Simsbrook Dr.</p>

<p>Start time is 9 a.m. and should last about 3 hours, until noon.</p>

<p>Please bring the following gear with you: closed-toed shoes, long pants, refillable water bottle, sun/weather protection (hats, sunglasses, insect repellent), and some excitement!</p>

<p>There is no restroom on site - please plan to make a pitstop prior to arrival. We will have drinking water refills available.</p>
<br />Location:<br />Simsbrook<br />4725 Simsbrook Dr,<br />Houston, TX 77045
PRIORITY:3
TRANSP:TRANSPARENT
BEGIN:VALARM
TRIGGER:-PT5M
ACTION:DISPLAY
DESCRIPTION:Reminder
END:VALARM
END:VEVENT
END:VCALENDAR
