BEGIN:VCALENDAR
VERSION:2.0
CALSCALE:GREGORIAN
METHOD:PUBLISH
PRODID://CEC//202292
BEGIN:VEVENT
DTSTAMP:20260419T120323
VTIMEZONE:America/Chicago
DTSTART:20260508T130000Z
DTEND:20260508T160000Z
UID:202292
SUMMARY:HPB Green Team @ Coolgreen Nursery
LOCATION:Coolgreen Nursery, Houston, TX
DESCRIPTION:HPB Green Team @ Coolgreen Nursery\n\n05/08/26 08:00 AM CST\n - 05/08/26 11:00 AM CST\Description:\nOur last Green Team of the season!! Join Houston Parks Board at our Coolgreen Nursery on May 8th at 8 am to help pot-up seedlings for the fall planting seasons!\n\Details:\n\n\n\n\nHelp us build up our plants for the next season of Green Team and bayou plantings! \n\nJoin Houston Parks Board at our Coolgreen Nursery to pot-up seedlings for our upcoming fall plantings!! \n\n \n\nWe will be meeting at 12800 Texaco Rd., Houston 77013. \n\nStart time is 8 a.m. and should last about 3 hours, until 11 am.\n\nPlease bring the following gear with you: closed-toed shoes, long pants, refillable water bottle, sun/weather protection (hats, sunglasses, insect repllent), and some excitement.\n\nParking will be on site at the nursery. There is a portable restroom available, along with water refills for your bottle. \n\n \n\Location:\nCoolgreen Nursery\n\nHouston, TX
X-ALT-DESC;FMTTYPE=text/html:HPB Green Team @ Coolgreen Nursery<br /><br />05/08/26 08:00 AM CST - 05/08/26 11:00 AM CST<br />Description:<br /><p>Our last Green Team of the season!! Join Houston Parks Board at our Coolgreen Nursery on May 8th at 8 am to help pot-up seedlings for the fall planting seasons!</p>
<br />Details:<br /><p><!-- x-tinymce/html --></p>

<p><!-- x-tinymce/html --></p>

<p>Help us build up our plants for the next season of Green Team and bayou plantings!&nbsp;</p>

<p>Join Houston Parks Board at our Coolgreen Nursery to pot-up seedlings for our upcoming fall plantings!!&nbsp;</p>

<p>&nbsp;</p>

<p>We will be meeting at 12800 Texaco Rd., Houston 77013.&nbsp;</p>

<p>Start time is 8 a.m. and should last about 3 hours, until 11 am.</p>

<p>Please bring the following gear with you: closed-toed shoes, long pants, refillable water bottle, sun/weather protection (hats, sunglasses, insect repllent), and some excitement.</p>

<p>Parking will be on site at the nursery. There is a portable restroom available, along with water refills for your bottle.&nbsp;</p>

<p>&nbsp;</p>
<br />Location:<br />Coolgreen Nursery<br /><br />Houston, TX 
PRIORITY:3
TRANSP:TRANSPARENT
BEGIN:VALARM
TRIGGER:-PT5M
ACTION:DISPLAY
DESCRIPTION:Reminder
END:VALARM
END:VEVENT
END:VCALENDAR
