BEGIN:VCALENDAR
VERSION:2.0
CALSCALE:GREGORIAN
METHOD:PUBLISH
PRODID://CEC//202312
BEGIN:VEVENT
DTSTAMP:20260419T155142
VTIMEZONE:America/Chicago
DTSTART:20251120T153000Z
DTEND:20251121T000000Z
UID:202312
SUMMARY:Public Hearing on Concrete Batch Plant Protections!
LOCATION:, Carl Walker Jr. Center in Fifth Ward (4300 Noble St B, Houston, TX, 77020
DESCRIPTION:Public Hearing on Concrete Batch Plant Protections!\n\n11/20/25 09:30 AM CST\n - 11/20/25 06:00 PM CST\Description:\nSpeak Up for Clean Air: Join the TCEQ Rulemaking Hearing (Nov 20)\n\nTexas is proposing updates to its regulations of concrete batch plants. This is progress! Now let’s make sure the final rule truly protects our health.\n\nWhat’s Happening: The Texas Commission on Environmental Quality (TCEQ) is taking public comment on proposed revisions to 30 TAC Chapter 116 (Standard Permits) and the State Implementation Plan to implement SB 763 and SB 2351. These rulings would require TCEQ to review the concrete batch plant permit at least every eight years to make sure it still protects public health. It would also require facility operators to update their construction plans if the permit changes and they haven’t started building yet.\n\nAir Alliance Houston will be attending the TCEQ hearing in person and is providing a free bus from Carl Walker Jr. Center in Fifth Ward for community members who want to join us.\n\n \n\nRide with us on 11/20/2025 (Free Bus from Carl Walker Jr. Center in Fifth Ward)\nMust Register: https://tinyurl.com/Bus-CBP-PublicHearing\n\n\n	Pick-Up Location: Carl Walker Jr. Center in Fifth Ward (4300 Noble St B, Houston, TX 77020)\n	Arrive for Check-In: 9:30 AM\n	Bus Departs: No later than 10:00 AM\n	Mid-Route Break: ~30 minutes\n	Austin Arrival: Around 1:30 PM (in time for check-in; hearing starts at 2:00 PM)\n	Return: Depart after public comment concludes.\n\n\Location:\n\nCarl Walker Jr. Center in Fifth Ward (4300 Noble St B\nHouston, TX 77020
X-ALT-DESC;FMTTYPE=text/html:Public Hearing on Concrete Batch Plant Protections!<br /><br />11/20/25 09:30 AM CST - 11/20/25 06:00 PM CST<br />Description:<br /><p><strong>Speak Up for Clean Air: Join the TCEQ Rulemaking Hearing (Nov 20)</strong></p>

<p>Texas is proposing updates to its regulations of concrete batch plants. This is progress! Now let&rsquo;s make sure the final rule truly protects our health.</p>

<p><strong>What&rsquo;s Happening</strong>: The Texas Commission on Environmental Quality (TCEQ) is taking public comment on proposed revisions to 30 TAC Chapter 116 (Standard Permits) and the State Implementation Plan to implement SB 763 and SB 2351. These rulings would require TCEQ to review the concrete batch plant permit at least every eight years to make sure it still protects public health. It would also require facility operators to update their construction plans if the permit changes and they haven&rsquo;t started building yet.</p>

<p>Air Alliance Houston will be attending the TCEQ hearing in person and is providing a free bus from Carl Walker Jr. Center in Fifth Ward for community members who want to join us.<br />
<br />
&nbsp;</p>

<p><strong>Ride with us on 11/20/2025 (Free Bus from&nbsp;</strong>Carl Walker Jr. Center in Fifth Ward<strong>)<br />
Must Register:&nbsp;<a href="https://tinyurl.com/Bus-CBP-PublicHearing">https://tinyurl.com/Bus-CBP-PublicHearing</a></strong></p>

<ul>
	<li aria-level="1">Pick-Up Location: Carl Walker Jr. Center in Fifth Ward (4300 Noble St B, Houston, TX 77020)</li>
	<li aria-level="1">Arrive for Check-In: 9:30 AM</li>
	<li aria-level="1">Bus Departs: No later than 10:00 AM</li>
	<li aria-level="1">Mid-Route Break: ~30 minutes</li>
	<li aria-level="1">Austin Arrival: Around 1:30 PM (in time for check-in; hearing starts at 2:00 PM)</li>
	<li aria-level="1">Return: Depart after public comment concludes.</li>
</ul>
<br />Location:<br /><br />Carl Walker Jr. Center in Fifth Ward (4300 Noble St B<br />Houston, TX 77020
PRIORITY:3
TRANSP:TRANSPARENT
BEGIN:VALARM
TRIGGER:-PT5M
ACTION:DISPLAY
DESCRIPTION:Reminder
END:VALARM
END:VEVENT
END:VCALENDAR
