BEGIN:VCALENDAR
VERSION:2.0
CALSCALE:GREGORIAN
METHOD:PUBLISH
PRODID://CEC//202313
BEGIN:VEVENT
DTSTAMP:20260419T133805
VTIMEZONE:America/Chicago
DTSTART:20251202T220000Z
DTEND:20251203T010000Z
UID:202313
SUMMARY:Air Alliance 2025 Open House & Fundraiser 
LOCATION:, 2520 Caroline St, Suite 100, Houston, TX, 77004
DESCRIPTION:Air Alliance 2025 Open House & Fundraiser \n\n12/02/25 04:00 PM CST\n - 12/02/25 07:00 PM CST\Description:\nJoin Air Alliance Houston for a community open house & fundraiser on Giving Tuesday to learn more about our mission, meet our team, and connect with others passionate about cleaner air and healthier communities. Be prepared for a SENSORY, activity-filled night of interactive activities for everyone!\n \nBe part of the story at our Community Open House! During the event we’ll unveil our Faces of the Fight Wall – a powerful, growing mural that honors everyone standing with us in this mission. Attendees will have the chance to take a photo on-site and add it to the wall, leaving their mark as a visible symbol of support and unity that will live on at our headquarters.\n\nRSVP\Location:\n\n2520 Caroline St, Suite 100\nHouston, TX 77004
X-ALT-DESC;FMTTYPE=text/html:Air Alliance 2025 Open House & Fundraiser <br /><br />12/02/25 04:00 PM CST - 12/02/25 07:00 PM CST<br />Description:<br />Join Air Alliance Houston for a community open house &amp; fundraiser on Giving Tuesday to learn more about our mission, meet our team, and connect with others passionate about cleaner air and healthier communities. Be prepared for a SENSORY, activity-filled night of interactive activities for everyone!<br />
&nbsp;
<p>Be part of the story at our Community Open House! During the event we&rsquo;ll unveil our Faces of the Fight Wall &ndash; a powerful, growing mural that honors everyone standing with us in this mission. Attendees will have the chance to take a photo on-site and add it to the wall, leaving their mark as a visible symbol of support and unity that will live on at our headquarters.</p>
<br />
<a href="https://secure.airalliancehouston.org/a/rsvp-ohfundraiser" target="_blank">RSVP</a><br />Location:<br /><br />2520 Caroline St, Suite 100<br />Houston, TX 77004
PRIORITY:3
TRANSP:TRANSPARENT
BEGIN:VALARM
TRIGGER:-PT5M
ACTION:DISPLAY
DESCRIPTION:Reminder
END:VALARM
END:VEVENT
END:VCALENDAR
