BEGIN:VCALENDAR
VERSION:2.0
CALSCALE:GREGORIAN
METHOD:PUBLISH
PRODID://CEC//202316
BEGIN:VEVENT
DTSTAMP:20260419T155142
VTIMEZONE:America/Chicago
DTSTART:20251120T180000Z
DTEND:20251120T190000Z
UID:202316
SUMMARY: Who is paying for Texas's toxic legacy?
LOCATION:, TX
DESCRIPTION:Who is paying for Texas's toxic legacy?\n\n11/20/25 12:00 PM CST\n - 11/20/25 01:00 PM CST\Description:\nLast year, the Texas Railroad Commission, which regulates oil and gas exploration, spent $6.95 million to plug one water blowout, incurring millions in water management costs alone. \n\nThis week we'll take a hard look at the thousands of orphaned and leaking oil wells that threaten water safety, fuel earthquakes, and leave taxpayers to cover the cost.\n\nKeith May, project manager for the Texas Railroad Commission’s State Managed Well Plugging Program; Hawk Dunlap, current candidate for the Railroad Commission; and Virginia Palacios, executive director of Commission Shift, will join us. \n\nRegister now to join.\n
X-ALT-DESC;FMTTYPE=text/html: Who is paying for Texas's toxic legacy?<br /><br />11/20/25 12:00 PM CST - 11/20/25 01:00 PM CST<br />Description:<br /><p>Last year, the Texas Railroad Commission, which regulates oil and&nbsp;gas exploration, spent&nbsp;<a data-saferedirecturl="https://www.google.com/url?q=https://link.houstonchronicle.com/click/42605886.5552/aHR0cHM6Ly93d3cuaG91c3RvbmNocm9uaWNsZS5jb20vbmV3cy9pbnZlc3RpZ2F0aW9ucy9hcnRpY2xlL2dleXNlci1hcGFjaGUtcmFpbHJvYWQtY29tbWlzc2lvbi1sZWFraW5nLXdlbGxzLTIxMTE4ODEwLnBocD9zaWQ9NjYxMDcwNTQzNmE0NjcwZDQxODE3NmE4JnNzPVAmc3RfcmlkPW51bGwmdXRtX3NvdXJjZT1uZXdzbGV0dGVyJnV0bV9tZWRpdW09ZW1haWwmdXRtX3Rlcm09bmV3cyZ1dG1fY2FtcGFpZ249aGNybiUyMCU3QyUyMGhjJTIwbGl2ZQ/6610705436a4670d418176a8Ceacdbf44&amp;source=gmail&amp;ust=1763591163202000&amp;usg=AOvVaw37kJqVsdvRdzCSkL5fzRPn" href="https://link.houstonchronicle.com/click/42605886.5552/aHR0cHM6Ly93d3cuaG91c3RvbmNocm9uaWNsZS5jb20vbmV3cy9pbnZlc3RpZ2F0aW9ucy9hcnRpY2xlL2dleXNlci1hcGFjaGUtcmFpbHJvYWQtY29tbWlzc2lvbi1sZWFraW5nLXdlbGxzLTIxMTE4ODEwLnBocD9zaWQ9NjYxMDcwNTQzNmE0NjcwZDQxODE3NmE4JnNzPVAmc3RfcmlkPW51bGwmdXRtX3NvdXJjZT1uZXdzbGV0dGVyJnV0bV9tZWRpdW09ZW1haWwmdXRtX3Rlcm09bmV3cyZ1dG1fY2FtcGFpZ249aGNybiUyMCU3QyUyMGhjJTIwbGl2ZQ/6610705436a4670d418176a8Ceacdbf44" rel="noopener" target="_blank">$6.95 million</a>&nbsp;to plug one water blowout, incurring millions in water management costs alone.&nbsp;</p>

<p><a data-saferedirecturl="https://www.google.com/url?q=https://link.houstonchronicle.com/external/42605886.5552/aHR0cHM6Ly9ldmVudHMuem9vbS51cy9ldi9BbnhiNl9CUkF2Nl91cmtRX0dsNW5TQWVWdFdtSzQxV3pYSnFOZ3lMQndvLUI3VnFDT0FDfkFxLU11V0RsMXlBY0l6bVZGZWhISkotcW1nb0Yta0ZSYzlHWU1kTVNpMFI1NGtvTFU4Z21Ya1lmQ3lLaWozWnFNczFBa2VvUmp2T09ZMndsbERFWHFvaF9KUT9zaWQ9NjYxMDcwNTQzNmE0NjcwZDQxODE3NmE4JnNzPVAmc3RfcmlkPW51bGwmdXRtX3NvdXJjZT1uZXdzbGV0dGVyJnV0bV9tZWRpdW09ZW1haWwmdXRtX3Rlcm09bmV3cyZ1dG1fY2FtcGFpZ249aGNybiUyMCU3QyUyMGhjJTIwbGl2ZQ/6610705436a4670d418176a8C601d0e52&amp;source=gmail&amp;ust=1763591163202000&amp;usg=AOvVaw2gmv-QdSdArezqiWCTZKUy" href="https://link.houstonchronicle.com/external/42605886.5552/aHR0cHM6Ly9ldmVudHMuem9vbS51cy9ldi9BbnhiNl9CUkF2Nl91cmtRX0dsNW5TQWVWdFdtSzQxV3pYSnFOZ3lMQndvLUI3VnFDT0FDfkFxLU11V0RsMXlBY0l6bVZGZWhISkotcW1nb0Yta0ZSYzlHWU1kTVNpMFI1NGtvTFU4Z21Ya1lmQ3lLaWozWnFNczFBa2VvUmp2T09ZMndsbERFWHFvaF9KUT9zaWQ9NjYxMDcwNTQzNmE0NjcwZDQxODE3NmE4JnNzPVAmc3RfcmlkPW51bGwmdXRtX3NvdXJjZT1uZXdzbGV0dGVyJnV0bV9tZWRpdW09ZW1haWwmdXRtX3Rlcm09bmV3cyZ1dG1fY2FtcGFpZ249aGNybiUyMCU3QyUyMGhjJTIwbGl2ZQ/6610705436a4670d418176a8C601d0e52" rel="noopener" target="_blank">This week</a>&nbsp;we'll take a hard look at the thousands of orphaned and leaking oil wells that threaten water safety, fuel earthquakes, and leave taxpayers to cover the cost.</p>

<p>Keith May, project manager for the Texas Railroad Commission&rsquo;s State Managed Well Plugging Program; Hawk&nbsp;Dunlap, current candidate for the Railroad Commission; and Virginia Palacios, executive director of Commission Shift, will join us.&nbsp;</p>

<p><a data-saferedirecturl="https://www.google.com/url?q=https://link.houstonchronicle.com/external/42605886.5552/aHR0cHM6Ly9ldmVudHMuem9vbS51cy9ldi9BbnhiNl9CUkF2Nl91cmtRX0dsNW5TQWVWdFdtSzQxV3pYSnFOZ3lMQndvLUI3VnFDT0FDfkFxLU11V0RsMXlBY0l6bVZGZWhISkotcW1nb0Yta0ZSYzlHWU1kTVNpMFI1NGtvTFU4Z21Ya1lmQ3lLaWozWnFNczFBa2VvUmp2T09ZMndsbERFWHFvaF9KUT9zaWQ9NjYxMDcwNTQzNmE0NjcwZDQxODE3NmE4JnNzPVAmc3RfcmlkPW51bGwmdXRtX3NvdXJjZT1uZXdzbGV0dGVyJnV0bV9tZWRpdW09ZW1haWwmdXRtX3Rlcm09bmV3cyZ1dG1fY2FtcGFpZ249aGNybiUyMCU3QyUyMGhjJTIwbGl2ZQ/6610705436a4670d418176a8D601d0e52&amp;source=gmail&amp;ust=1763591163202000&amp;usg=AOvVaw23Y0v4thRSDEOHMQlNVIpj" href="https://link.houstonchronicle.com/external/42605886.5552/aHR0cHM6Ly9ldmVudHMuem9vbS51cy9ldi9BbnhiNl9CUkF2Nl91cmtRX0dsNW5TQWVWdFdtSzQxV3pYSnFOZ3lMQndvLUI3VnFDT0FDfkFxLU11V0RsMXlBY0l6bVZGZWhISkotcW1nb0Yta0ZSYzlHWU1kTVNpMFI1NGtvTFU4Z21Ya1lmQ3lLaWozWnFNczFBa2VvUmp2T09ZMndsbERFWHFvaF9KUT9zaWQ9NjYxMDcwNTQzNmE0NjcwZDQxODE3NmE4JnNzPVAmc3RfcmlkPW51bGwmdXRtX3NvdXJjZT1uZXdzbGV0dGVyJnV0bV9tZWRpdW09ZW1haWwmdXRtX3Rlcm09bmV3cyZ1dG1fY2FtcGFpZ249aGNybiUyMCU3QyUyMGhjJTIwbGl2ZQ/6610705436a4670d418176a8D601d0e52" rel="noopener" target="_blank"><strong>Register now to join.</strong></a></p>

PRIORITY:3
TRANSP:TRANSPARENT
BEGIN:VALARM
TRIGGER:-PT5M
ACTION:DISPLAY
DESCRIPTION:Reminder
END:VALARM
END:VEVENT
END:VCALENDAR
