BEGIN:VCALENDAR
VERSION:2.0
CALSCALE:GREGORIAN
METHOD:PUBLISH
PRODID://CEC//202324
BEGIN:VEVENT
DTSTAMP:20260419T155142
VTIMEZONE:America/Chicago
DTSTART:20251122T150000Z
DTEND:20251122T203000Z
UID:202324
SUMMARY:SW Houston Environmental Justice Tour Led by Mosaic Learning Center & Naomi Kuo
LOCATION:40 Acre Lake Parking lot, 2511 Eldridge Road, Sugarland, TX, 77478
DESCRIPTION:SW Houston Environmental Justice Tour Led by Mosaic Learning Center & Naomi Kuo\n\n11/22/25 09:00 AM CST\n - 11/22/25 02:30 PM CST\Description:\nGet to Know Your Neighbors at Brazos Bend State Park and Coal & the Unseen at W.A. Parish Generating Station  9:00am-2:30pm \nExplore the beauty of our local wildlife ecosystems while learning about environmental issues impacting our community. Knowledgeable guides at Brazos Bend State Park will lead you around 40 Acre Lake, sharing insights and stories along the way. And at the W.A. Parish, we'll learn how this coal plant impacts neighboring communities.\n\nIf you are driving your own vehicle, meet at 9:45am at the 40 Acre Lake parking lot. For carpool options, meet at the Sugar Land Memorial Park by 9am. More details will be shared via email to all registrants.\n\nThese tours aim to bring greater awareness to the intersections of race, class, and environmental issues in Southwest Houston. The ongoing work of local organizations is shared and interfaith and creative practices are incorporated into group learning experiences. All members of our diverse communities are welcome.\n\nFor more info and to register: https://www.eventbrite.com/e/sw-houston-environmental-justice-tours-1122-126-tickets-1972824650637?aff=ebdsoporgprofile\Location:\n40 Acre Lake Parking lot\n2511 Eldridge Road\nSugarland, TX 77478
X-ALT-DESC;FMTTYPE=text/html:SW Houston Environmental Justice Tour Led by Mosaic Learning Center & Naomi Kuo<br /><br />11/22/25 09:00 AM CST - 11/22/25 02:30 PM CST<br />Description:<br />Get to Know Your Neighbors at Brazos Bend State Park and Coal &amp; the Unseen at W.A. Parish Generating Station&nbsp; 9:00am-2:30pm&nbsp;<br />
Explore the beauty of our local wildlife ecosystems while learning about environmental issues impacting our community. Knowledgeable guides at Brazos Bend State Park will lead you around 40 Acre Lake, sharing insights and stories along the way. And at the W.A. Parish, we'll learn how this coal plant impacts neighboring communities.<br />
<br />
If you are driving your own vehicle, meet at 9:45am at the 40 Acre Lake parking lot. For carpool options, meet at the Sugar Land Memorial Park by 9am. More details will be shared via email to all registrants.<br />
<br />
These tours aim to bring greater awareness to the intersections of race, class, and environmental issues in Southwest Houston. The ongoing work of local organizations is shared and interfaith and creative practices are incorporated into group learning experiences. All members of our diverse communities are welcome.<br />
<br />
For more info and to register:&nbsp;<a href="https://www.eventbrite.com/e/sw-houston-environmental-justice-tours-1122-126-tickets-1972824650637?aff=ebdsoporgprofile">https://www.eventbrite.com/e/sw-houston-environmental-justice-tours-1122-126-tickets-1972824650637?aff=ebdsoporgprofile</a><br />Location:<br />40 Acre Lake Parking lot<br />2511 Eldridge Road<br />Sugarland, TX 77478
PRIORITY:3
TRANSP:TRANSPARENT
BEGIN:VALARM
TRIGGER:-PT5M
ACTION:DISPLAY
DESCRIPTION:Reminder
END:VALARM
END:VEVENT
END:VCALENDAR
