BEGIN:VCALENDAR
VERSION:2.0
CALSCALE:GREGORIAN
METHOD:PUBLISH
PRODID://CEC//202325
BEGIN:VEVENT
DTSTAMP:20260419T154545
VTIMEZONE:America/Chicago
DTSTART:20251120T233000Z
DTEND:20251121T013000Z
UID:202325
SUMMARY:SEED Kick-off: Climate Action Networking
LOCATION:Office of Commissioner Rodney Ellis, Administration & Community Center, 2787 El Camino, Houston, TX, 77054
DESCRIPTION:SEED Kick-off: Climate Action Networking\n\n11/20/25 05:30 PM CST\n - 11/20/25 07:30 PM CST\Description:\nJoin the Harris County Office of Sustainability, CEER, and the Office of Commissioner Rodney Ellis, for the SEED Kick-Off. // Únase a la Oficina de Sostenibilidad del Condado de Harris, a CEER y a la Oficina del Comisionado Rodney Ellis para el Inicio SEED. \n\nDate: Thursday, November 20th // Fecha: jueves, 20 de noviembre \n\nTime: 5:30-7:30pm // Hora: 5:30-7:30 p. m. \n\nLocation: Office of Commissioner Rodney Ellis, Administration & Community Center, 2787 El Camino, Houston, TX 77054// Ubicación: Oficina del Comisionado Rodney Ellis, Centro Administrativo y Comunitario, 2787 El Camino, Houston, TX 77054 \n\nThis event will showcase the projects of the Sowing Equity through Engagement and Development (SEED) grantees. Attendees will also engage in open dialogue about upcoming initiatives and how we can collectively support each other in advancing climate justice in Harris County.  // Este evento presentará los proyectos de los beneficiarios del programa Sembrando Equidad a través del Empoderamiento y Desarrollo (SEED). Los asistentes también participarán en un diálogo abierto sobre las próximas iniciativas y en cómo podemos apoyarnos mutuamente para impulsar la justicia climática en el condado de Harris. \n\nPlease RSVP . Por favor, confirme su asistencia. https://forms.gle/uP3eT5voHaE65t8u5\n\nIf you have any questions, email Sustainability.Oca@harriscountytx.gov. // Si tiene alguna pregunta, envíe un correo electrónico a Sustainability.Oca@harriscountytx.gov. \n\Location:\nOffice of Commissioner Rodney Ellis, Administration & Community Center\n2787 El Camino\nHouston, TX 77054
X-ALT-DESC;FMTTYPE=text/html:SEED Kick-off: Climate Action Networking<br /><br />11/20/25 05:30 PM CST - 11/20/25 07:30 PM CST<br />Description:<br /><p>Join the Harris County Office of Sustainability, CEER, and the Office of Commissioner Rodney Ellis, for the SEED Kick-Off. // &Uacute;nase a la Oficina de Sostenibilidad del Condado de Harris, a CEER y a la Oficina del Comisionado Rodney Ellis para el Inicio SEED.&nbsp;</p>

<p>Date: Thursday, November 20th // Fecha: jueves, 20 de noviembre&nbsp;</p>

<p>Time: 5:30-7:30pm // Hora: 5:30-7:30 p. m.&nbsp;</p>

<p>Location:&nbsp;Office of Commissioner Rodney Ellis, Administration &amp; Community Center,&nbsp;2787 El Camino, Houston, TX 77054//&nbsp;Ubicaci&oacute;n: Oficina del Comisionado Rodney Ellis, Centro Administrativo y Comunitario, 2787 El Camino, Houston, TX 77054&nbsp;</p>

<p>This event will showcase the projects of the Sowing Equity through Engagement and Development (SEED) grantees. Attendees will also engage in open dialogue about upcoming initiatives and how we can collectively support each other in advancing climate justice in Harris County.&nbsp; // Este evento presentar&aacute; los proyectos de los beneficiarios del programa Sembrando Equidad a trav&eacute;s del Empoderamiento y Desarrollo (SEED). Los asistentes tambi&eacute;n participar&aacute;n en un di&aacute;logo abierto sobre las pr&oacute;ximas iniciativas y en c&oacute;mo podemos apoyarnos mutuamente para impulsar la justicia clim&aacute;tica en el condado de Harris.&nbsp;</p>

<p>Please RSVP . Por favor, confirme su asistencia.&nbsp;<a href="http://RSVP Here - https://forms.gle/uP3eT5voHaE65t8u5">https://forms.gle/uP3eT5voHaE65t8u5</a></p>

<p>If you have any questions, email <a href="mailto:Sustainability.Oca@harriscountytx.gov">Sustainability.Oca@harriscountytx.gov</a>. // Si tiene alguna pregunta, env&iacute;e un correo electr&oacute;nico a Sustainability.Oca@harriscountytx.gov.&nbsp;</p>
<br />Location:<br />Office of Commissioner Rodney Ellis, Administration & Community Center<br />2787 El Camino<br />Houston, TX 77054
PRIORITY:3
TRANSP:TRANSPARENT
BEGIN:VALARM
TRIGGER:-PT5M
ACTION:DISPLAY
DESCRIPTION:Reminder
END:VALARM
END:VEVENT
END:VCALENDAR
