BEGIN:VCALENDAR
VERSION:2.0
CALSCALE:GREGORIAN
METHOD:PUBLISH
PRODID://CEC//202326
BEGIN:VEVENT
DTSTAMP:20260419T133851
VTIMEZONE:America/Chicago
DTSTART:20251210T003000Z
DTEND:20251210T030000Z
UID:202326
SUMMARY:THEA 10th Anniversary Holiday Party
LOCATION:Axelrad's Beer Garden, 1517 Alabama St. , Houston, TX
DESCRIPTION:THEA 10th Anniversary Holiday Party\n\n12/09/25 06:30 PM CST\n - 12/09/25 09:00 PM CST\Description:\nIt’s our 10th anniversary here at THEA and we want you to celebrate with us!  In fact, we want the entire Houston environmental community.  \n\nSo we're throwing a party.  Nothing big, just an informal holiday party where you can wind down, see old friends and maybe meet a few new friends.\n\n \Details:\nCome join us.  \nIt's really important that you RSVP if you can come.  That way we will know how many people to expect and we'll be able to enter you for one of our door prizes!\n\nPlease RSVP at info@txhea.org\Location:\nAxelrad's Beer Garden\n1517 Alabama St. \nHouston, TX
X-ALT-DESC;FMTTYPE=text/html:THEA 10th Anniversary Holiday Party<br /><br />12/09/25 06:30 PM CST - 12/09/25 09:00 PM CST<br />Description:<br /><p dir="ltr">It&rsquo;s our 10th anniversary here at THEA and we want you to celebrate with us!&nbsp;&nbsp;In fact, we want the entire Houston environmental community.&nbsp;&nbsp;</p>

<p dir="ltr">So we're throwing a party.&nbsp; Nothing big, just an informal holiday party where you can wind down, see old friends and maybe meet a few new friends.</p>
<br />
&nbsp;<br />Details:<br />Come join us.&nbsp;&nbsp;<br />
It's really important that you RSVP if you can come.&nbsp; That way we will know how many people to expect <u><em><strong>and</strong></em></u> we'll be able to enter you for one of our door prizes!<br />
<br />
Please RSVP at <a href="mailto:info@txhea.org?subject=RSVP%20for%20THEA's%20party">info@txhea.org</a><br />Location:<br />Axelrad's Beer Garden<br />1517 Alabama St. <br />Houston, TX 
PRIORITY:3
TRANSP:TRANSPARENT
BEGIN:VALARM
TRIGGER:-PT5M
ACTION:DISPLAY
DESCRIPTION:Reminder
END:VALARM
END:VEVENT
END:VCALENDAR
