BEGIN:VCALENDAR
VERSION:2.0
CALSCALE:GREGORIAN
METHOD:PUBLISH
PRODID://CEC//202460
BEGIN:VEVENT
DTSTAMP:20260419T133803
VTIMEZONE:America/Chicago
DTSTART:20251203T010000Z
DTEND:20251203T030000Z
UID:202460
SUMMARY:Citizens' Environmental Coalition Environmental Bookclub
LOCATION:The Black Hole Coffee House, 4504 Graustark Street, Houston, TX, 77006
DESCRIPTION:Citizens' Environmental Coalition Environmental Bookclub\n\n12/02/25 07:00 PM CST\n - 12/02/25 09:00 PM CST\Description:\nJoin us to discuss Jeff Goodell's The Heat Will Kill You First: Life and Death on a Scorched Planet, an award-winning journalist's account of the dangers of heat, how the life-threatening impacts will only get worse as climate change accelerates, and how we need to act now. For more info: https://cechouston.org/environmental-book-club/\Location:\nThe Black Hole Coffee House\n4504 Graustark Street\nHouston, TX 77006
X-ALT-DESC;FMTTYPE=text/html:Citizens' Environmental Coalition Environmental Bookclub<br /><br />12/02/25 07:00 PM CST - 12/02/25 09:00 PM CST<br />Description:<br />Join us to discuss Jeff Goodell's <em>The Heat Will Kill You First: Life and Death on a Scorched Planet, </em>an award-winning journalist's account of the dangers of heat, how the life-threatening impacts will only get worse as climate change accelerates, and how we need to act now. For more info:&nbsp;<a href="https://www.google.com/url?q=https://cechouston.org/environmental-book-club/&amp;sa=D&amp;source=calendar&amp;ust=1764187639268284&amp;usg=AOvVaw2sQ9cW3CIdY-zxYKeA5xRD" jslog="217751; track:impression" target="_blank">https://cechouston.org/environmental-book-club/</a><br />Location:<br />The Black Hole Coffee House<br />4504 Graustark Street<br />Houston, TX 77006
PRIORITY:3
TRANSP:TRANSPARENT
BEGIN:VALARM
TRIGGER:-PT5M
ACTION:DISPLAY
DESCRIPTION:Reminder
END:VALARM
END:VEVENT
END:VCALENDAR
