BEGIN:VCALENDAR
VERSION:2.0
CALSCALE:GREGORIAN
METHOD:PUBLISH
PRODID://CEC//202483
BEGIN:VEVENT
DTSTAMP:20260419T153156
VTIMEZONE:America/Chicago
DTSTART:20251128T190000Z
DTEND:20251128T220000Z
UID:202483
SUMMARY:Buy Nothing Day Quaker Barter Fair
LOCATION:Live Oak Meeting, 1318 West 26th Street, Houston, Texas 77008 USA, Houston, TX, 77008
DESCRIPTION:Buy Nothing Day Quaker Barter Fair\n\n11/28/25 01:00 PM CST\n - 11/28/25 04:00 PM CST\Description:\nThe Quaker Barter Fair offers the community an opportunity to share in the practice of the Quaker testimonies of simplicity, stewardship and earth care.\n\nOn the Friday after Thanksgiving come see how  The Quaker testimonies of Simplicity, Community and Stewardship encourage Friends to find creative ways to support each  other without using money. In addition to creating a space to practice thinking together in a new way about how we place value on objects and services within our community, we offer a number of other ways to share information, services, and things.\n\nAnd it is a Fair, with crafts, games and other activities for families and children, including, but not limited to:\n\n\n	Plant and seed exchange\n	Master Gardener or Master Naturalist Presentation on Native Plants for your yard \n	Games and crafts\n	Story Tellers at  Story Rock  at 1:30 and 3:15\n	Live Concert from 2-3 pm by Jim Presley: Blues and Native American \n	Check back for more events as we add them\n	To get involved, just come!   Bring a table, shelf, rug or blanket to display your goods or a sign that describes your service(s).   CHILDREN ARE WELCOME!  Children are often the best models of how bartering can work. They have the ability to add value to an item by describing potential uses, and the creativity to negotiate three-way trades.\n	There will be a designated area for “free” items that you are willing to give to whomever wants them. Visitors may then use such items to barter and trade with if they wish. At the end of the day all items remaining at the “Free Table” will be donated to a local charity.\n\n\n12:30 PM – Open for table setup\n\n1:00 PM – Open to everyone – Games , Crafts, story tellers before and after the music.\n\n2:00 PM – 3:00 PM Live Concert-Jim Presley will play Traditional Blues, Original Blues, and Native American Music\n\n3:15 PM – Presentation on using native plants in your landscape\n\n \n\nRain Date Sat., Dec 6, 1-4 pm\n\Location:\nLive Oak Meeting\n1318 West 26th Street, Houston, Texas 77008 USA\nHouston, TX 77008
X-ALT-DESC;FMTTYPE=text/html:Buy Nothing Day Quaker Barter Fair<br /><br />11/28/25 01:00 PM CST - 11/28/25 04:00 PM CST<br />Description:<br /><p>The Quaker Barter Fair offers the community an opportunity to share in the practice of the Quaker testimonies of simplicity, stewardship and earth care.</p>

<p>On the Friday after Thanksgiving come see how &nbsp;The Quaker testimonies of Simplicity, Community and Stewardship encourage Friends to find creative ways to support each &nbsp;other without using money. In addition to creating a space to practice thinking together in a new way about how we place value on objects and services within our community, we offer a number of other ways to share information, services, and things.</p>

<p>And it is a Fair, with crafts, games and other activities for families and children, including, but not limited to:</p>

<ul>
	<li>Plant and seed exchange</li>
	<li>Master Gardener or Master Naturalist Presentation on Native Plants for your yard&nbsp;</li>
	<li>Games and crafts</li>
	<li>Story Tellers at &nbsp;Story Rock &nbsp;at 1:30 and 3:15</li>
	<li>Live Concert from 2-3 pm by&nbsp;Jim Presley: Blues and Native American&nbsp;</li>
	<li>Check back for more events as we add them</li>
	<li>To get involved, just come!&nbsp;&nbsp; Bring a table, shelf, rug or blanket to display your goods or a sign that describes your service(s). &nbsp;&nbsp;CHILDREN ARE WELCOME!&nbsp; Children are often the best models of how bartering can work. They have the ability to add value to an item by describing potential uses, and the creativity to negotiate three-way trades.</li>
	<li>There will be a designated area for &ldquo;free&rdquo; items that you are willing to give to whomever wants them. Visitors may then use such items to barter and trade with if they wish. At the end of the day all items remaining at the &ldquo;Free Table&rdquo; will be donated to a local charity.</li>
</ul>

<p>12:30 PM &ndash; Open for table setup</p>

<p>1:00 PM &ndash; Open to everyone &ndash; Games , Crafts, story tellers before and after the music.</p>

<p>2:00 PM &ndash; 3:00 PM Live Concert-Jim Presley&nbsp;will play&nbsp;Traditional Blues, Original Blues, and Native American Music</p>

<p>3:15 PM &ndash; Presentation on using native plants in your landscape</p>

<p>&nbsp;</p>

<p>Rain Date Sat., Dec 6, 1-4 pm</p>
<br />Location:<br />Live Oak Meeting<br />1318 West 26th Street, Houston, Texas 77008 USA<br />Houston, TX 77008
PRIORITY:3
TRANSP:TRANSPARENT
BEGIN:VALARM
TRIGGER:-PT5M
ACTION:DISPLAY
DESCRIPTION:Reminder
END:VALARM
END:VEVENT
END:VCALENDAR
