BEGIN:VCALENDAR
VERSION:2.0
CALSCALE:GREGORIAN
METHOD:PUBLISH
PRODID://CEC//202575
BEGIN:VEVENT
DTSTAMP:20260419T193034
VTIMEZONE:America/Chicago
DTSTART:20251211T000000Z
DTEND:20251211T020000Z
UID:202575
SUMMARY:Surfrider Galveston Holiday Party Gypsy Joint Logo
LOCATION:, 6105 Stewart Road  Galveston, Galveston, TX, 77551
DESCRIPTION:Surfrider Galveston Holiday Party Gypsy Joint Logo\n\n12/10/25 06:00 PM CST\n - 12/10/25 08:00 PM CST\Description:\n\n	\n		\n			\n			Celebrate the end of another great year protecting waves, oceans, and beaches! We'll have games (prizes!) and food, and new members (starts @ $5/yr) welcome!\n\n			Join us and learn what our grassroots volunteers do to advocate for a healthy ocean for all people. We have a variety of engaging programs which we are looking for enthusiastic volunteers to help lead! Come enjoy a social and consider supporting us!\n\n			This will be a casual get together. Come for light bites, drinks, (some free, some on your own!) and all ages are welcome. Bring your own water bottle for refills. \n			\n		\n	\n\n\n\n	\n		\n			\n			\n				\n					\n						RSVP Now!\n					\n				\n			\n			\n		\n	\n\n\Location:\n\n6105 Stewart Road  Galveston\nGalveston, TX 77551
X-ALT-DESC;FMTTYPE=text/html:Surfrider Galveston Holiday Party Gypsy Joint Logo<br /><br />12/10/25 06:00 PM CST - 12/10/25 08:00 PM CST<br />Description:<br /><table role="presentation" style="width:100%">
	<tbody>
		<tr>
			<td>
			<p>Celebrate the end of another great year protecting waves, oceans, and beaches! We'll have games (prizes!) and food, and new members (starts @ $5/yr) welcome!</p>

			<p>Join us and learn what our grassroots volunteers do to advocate for a healthy ocean for all people. We have a variety of engaging programs which we are looking for enthusiastic volunteers to help lead! Come enjoy a social and consider supporting us!</p>

			<p>This will be a casual get together. Come for light bites, drinks, (some free, some on your own!) and all ages are welcome. Bring your own water bottle for refills.&nbsp;</p>
			</td>
		</tr>
	</tbody>
</table>

<table role="presentation" style="width:100%">
	<tbody>
		<tr>
			<td>
			<table align="center" border="0" role="presentation">
				<tbody>
					<tr>
						<td align="center" bgcolor="#0C5394" valign="middle"><a data-saferedirecturl="https://www.google.com/url?q=https://www.surfrider.org/e3t/Ctc/ZV%2B113/d2s98Z04/VVrnXP55w_46W3TpFzq5GfBxGW6hm-BV5Gj68QN67vcnP3lYM-W7lCdLW6lZ3mfW2sTznv5XDznhMZ5K7BndFyQW2f6X4640K87yW1BZmps9kjrrjW5GB5wz67kL9vW717z984cYnjYN7d4StZW7_rmW8n7fYd5z87pdW2nkTl989k3RqW2qsZZw1ZMQWpW5QXJCb3zH8TDW2F4s_78VXmvxW4MMlHc7sg5gGW7l1plb43y85DN2JCP2HH4C-TW7hlvQd2rKyj8W30BQBX5q2bGdW8Hp4SK6fxqgdW3mK7tR8Q3hcNW1lPWcV6bcdvFVrRYHD2pcm1rW5jdw9L8HkDThW5FqB6H4nX_SmW8ysH7x5HK2V-dyWbHW04&amp;source=gmail&amp;ust=1764198070942000&amp;usg=AOvVaw37vDtzghfLkEtuZ6WI38eU" href="https://www.surfrider.org/e3t/Ctc/ZV+113/d2s98Z04/VVrnXP55w_46W3TpFzq5GfBxGW6hm-BV5Gj68QN67vcnP3lYM-W7lCdLW6lZ3mfW2sTznv5XDznhMZ5K7BndFyQW2f6X4640K87yW1BZmps9kjrrjW5GB5wz67kL9vW717z984cYnjYN7d4StZW7_rmW8n7fYd5z87pdW2nkTl989k3RqW2qsZZw1ZMQWpW5QXJCb3zH8TDW2F4s_78VXmvxW4MMlHc7sg5gGW7l1plb43y85DN2JCP2HH4C-TW7hlvQd2rKyj8W30BQBX5q2bGdW8Hp4SK6fxqgdW3mK7tR8Q3hcNW1lPWcV6bcdvFVrRYHD2pcm1rW5jdw9L8HkDThW5FqB6H4nX_SmW8ysH7x5HK2V-dyWbHW04" target="_blank"><strong>RSVP Now!</strong></a></td>
					</tr>
				</tbody>
			</table>
			</td>
		</tr>
	</tbody>
</table>
<br />Location:<br /><br />6105 Stewart Road  Galveston<br />Galveston, TX 77551
PRIORITY:3
TRANSP:TRANSPARENT
BEGIN:VALARM
TRIGGER:-PT5M
ACTION:DISPLAY
DESCRIPTION:Reminder
END:VALARM
END:VEVENT
END:VCALENDAR
