BEGIN:VCALENDAR
VERSION:2.0
CALSCALE:GREGORIAN
METHOD:PUBLISH
PRODID://CEC//202882
BEGIN:VEVENT
DTSTAMP:20260419T133639
VTIMEZONE:America/Chicago
DTSTART:20251211T000000Z
DTEND:20251211T020000Z
UID:202882
SUMMARY:Prairie Stampede
LOCATION:American Red Cross Building, 2700 Southwest Freeway, Houston, TX, 77098
DESCRIPTION:Prairie Stampede\n\n12/10/25 06:00 PM CST\n - 12/10/25 08:00 PM CST\Description:\nThis annual holiday celebration and awards night is co-hosted by the Coastal Prairie Conservancy and the Houston Native Prairie Association of Texas (HNPAT).\n\nCome share your successes, connect with fellow prairie enthusiasts, and enjoy an evening of camaraderie and inspiration.\n\nRegister Here (and sign up for a potluck dish)\n\nShow off your work:\nWe invite you to share your prairie projects, photos, and restoration highlights.\nPlease upload your PowerPoint slides or JPG images by December 1 using the link below:\nUpload your slides here\n\nFile Type: .pptx\nSlide Size: Standard (4:3)\n\Location:\nAmerican Red Cross Building\n2700 Southwest Freeway\nHouston, TX 77098
X-ALT-DESC;FMTTYPE=text/html:Prairie Stampede<br /><br />12/10/25 06:00 PM CST - 12/10/25 08:00 PM CST<br />Description:<br /><p>This annual holiday celebration and awards night is co-hosted by the&nbsp;Coastal&nbsp;Prairie&nbsp;<wbr />Conservancy&nbsp;and the&nbsp;Houston Native&nbsp;Prairie&nbsp;Association of Texas (HNPAT).</p>

<p>Come share your successes, connect with fellow&nbsp;prairie&nbsp;enthusiasts, and enjoy an evening of camaraderie and inspiration.</p>

<p><strong>Register&nbsp;<a data-saferedirecturl="https://www.google.com/url?q=https://forms.gle/2TPkgSKs7LZ7Vqqi6&amp;source=gmail&amp;ust=1764799817905000&amp;usg=AOvVaw1xQMRABIvWqUgVZnZQPqcO" href="https://forms.gle/2TPkgSKs7LZ7Vqqi6" target="_blank">Here</a>&nbsp;(and sign up for a potluck dish)</strong></p>

<p><strong>Show off your work:</strong><br />
We invite you to share your&nbsp;prairie&nbsp;projects, photos, and restoration highlights.<br />
Please upload your PowerPoint slides or JPG images by&nbsp;<strong>December 1</strong>&nbsp;using the link below:<br />
<a data-saferedirecturl="https://www.google.com/url?q=https://www.dropbox.com/scl/fo/37l9kfmne033moz064gch/AGHE2bv_XshFzjnCdehevW4?rlkey%3D2u11f2836ozp5od42ls4lgkqc%26st%3D211ih1ic%26dl%3D0&amp;source=gmail&amp;ust=1764799817905000&amp;usg=AOvVaw1SnI940AzWXAKNq3RHdejJ" href="https://www.dropbox.com/scl/fo/37l9kfmne033moz064gch/AGHE2bv_XshFzjnCdehevW4?rlkey=2u11f2836ozp5od42ls4lgkqc&amp;st=211ih1ic&amp;dl=0" rel="noopener" target="_blank"><strong>Upload your slides here</strong></a></p>

<p><strong>File Type:</strong>&nbsp;.pptx<br />
<strong>Slide Size:</strong>&nbsp;Standard (4:3)</p>
<br />Location:<br />American Red Cross Building<br />2700 Southwest Freeway<br />Houston, TX 77098
PRIORITY:3
TRANSP:TRANSPARENT
BEGIN:VALARM
TRIGGER:-PT5M
ACTION:DISPLAY
DESCRIPTION:Reminder
END:VALARM
END:VEVENT
END:VCALENDAR
