BEGIN:VCALENDAR
VERSION:2.0
CALSCALE:GREGORIAN
METHOD:PUBLISH
PRODID://CEC//202883
BEGIN:VEVENT
DTSTAMP:20260419T133624
VTIMEZONE:America/Chicago
DTSTART:20251212T010000Z
DTEND:20251212T030000Z
UID:202883
SUMMARY:Houston IN-PERSON Meeting: ** Holiday Social **
LOCATION:United Way of Greater Houston, 50 Waugh Drive, TX
DESCRIPTION:Houston IN-PERSON Meeting: ** Holiday Social **\n\n12/11/25 07:00 PM CST\n - 12/11/25 09:00 PM CST\Description:\nDoors open at 7:00 pm for social time, meet & greet.\nFeatured program presentation starts at 7:30 pm.\nEveryone is welcome.\n\nFeatured December Program:\nEnvironmental Bingo, prizes, and potluck.\n\n**Our December meeting will be our holiday party consisting of a fun game, Environmental Bingo - (no experience necessary), prizes, and a potluck. ** Vegan and vegetarian lite bites will be provided; but, sides or desserts will be potluck.\nOn arrival check for the room number at reception area. The room assignment will be on the monitor located in the hallway entrance.\nFree parking in the garage. Enter garage from Feagan St.\nPlease do not park in any of the reserved spots in the garage, and don't park in the lot across the street. There are four levels in the United Way parking garage. From the first level come through the glass doors to the main entrance and reception area. If you are on any of the other levels, you may take the elevator, and you will be at the main entrance.\nThere is METRO bus access via the #40 bus on Waugh Dr./South Heights Blvd. or the #85 bus on Washington Ave.\Location:\nUnited Way of Greater Houston\n50 Waugh Drive\n, TX
X-ALT-DESC;FMTTYPE=text/html:Houston IN-PERSON Meeting: ** Holiday Social **<br /><br />12/11/25 07:00 PM CST - 12/11/25 09:00 PM CST<br />Description:<br /><strong>Doors open at 7:00 pm for social time, meet &amp; greet.</strong><br />
<strong>Featured program presentation starts at 7:30 pm.</strong><br />
<strong>Everyone is welcome.</strong><br />
<br />
Featured December Program:<br />
<strong>Environmental Bingo, prizes, and potluck.</strong><br />
<br />
**Our December meeting will be our holiday party consisting of a fun game, Environmental Bingo - (no experience necessary), prizes, and a potluck. ** Vegan and vegetarian lite bites will be provided; but, sides or desserts will be potluck.<br />
On arrival check for the room number at reception area. The room assignment will be on the monitor located in the hallway entrance.<br />
<strong>Free parking in the garage. Enter garage from Feagan St.</strong><br />
Please do not park in any of the reserved spots in the garage, and don't park in the lot across the street. There are four levels in the United Way parking garage. From the first level come through the glass doors to the main entrance and reception area. If you are on any of the other levels, you may take the elevator, and you will be at the main entrance.<br />
There is&nbsp;<strong>METRO bus access</strong>&nbsp;via the #40 bus on Waugh Dr./South Heights Blvd. or the #85 bus on Washington Ave.<br />Location:<br />United Way of Greater Houston<br />50 Waugh Drive<br />, TX 
PRIORITY:3
TRANSP:TRANSPARENT
BEGIN:VALARM
TRIGGER:-PT5M
ACTION:DISPLAY
DESCRIPTION:Reminder
END:VALARM
END:VEVENT
END:VCALENDAR
