BEGIN:VCALENDAR
VERSION:2.0
CALSCALE:GREGORIAN
METHOD:PUBLISH
PRODID://CEC//202892
BEGIN:VEVENT
DTSTAMP:20260419T133848
VTIMEZONE:America/Chicago
DTSTART:20251213T150000Z
DTEND:20251213T180000Z
UID:202892
SUMMARY:Long Leaf Pine Planting and Restoration Day at the Big Thicket Preserve
LOCATION:Big Sandy Creek Unit of the Big Thicket National Preserve, 6102 FM 420 , Kountze, TX, 77625
DESCRIPTION:Long Leaf Pine Planting and Restoration Day at the Big Thicket Preserve\n\n12/13/25 09:00 AM CST\n - 12/13/25 12:00 PM CST\Description:\nThe Houston Sierra Club (HSC) provides members and the public with information and encourages them to follow through based upon that information.\n\nThe following outing, which plants native trees and/or other plants in Big Thicket National Preserve (BTNP), isn’t a Sierra Club sponsored service outing but is a National Park Service (NPS) official event. The HSC encourages our members and the public to participate and give back to our National Park public lands with this NPS event.\n\nOn Saturday, December 13, 2025, from 9 am to noon, the NPS and others will plant Longleaf Pine tree seedlings and/or other native plants to restore this forest ecosystem in the Big Sandy Creek Unit of BTNP.\n\nAll equipment will be provided by the NPS. Information packets will be sent to all registered volunteers prior to the planting day which will give the planting location and the most up-to-date logistical information. The exact location for this planting day is to be determined and will be sent out to participants via email before the planting day. Snacks and lunch will be provided!\n\nRegister Here\n \nYou must sign-up, via Volunteer.gov. Search at this site for Big Thicket so that you find, “Longleaf Pine Planting and Restoration Day”. For more information or if you have questions call Kevin Goodwin at 409-812-5121 or 409-951-6700.\n\nPeople of all ages are welcome! Planting will occur, rain/shine, so dress for the weather. Wear clothes appropriate for the weather including long pants, long-sleeved shirt, hat, and close-toed shoes. Bring water, bug spray, and sunscreen. You’ll hike from the parking area to the planting area and then back to the parking area. Planting will occur on uneven terrain.\n\nParticipate and protect our National Park System and join the NPS to make BTNP even better!\n\Location:\nBig Sandy Creek Unit of the Big Thicket National Preserve\n6102 FM 420 \nKountze, TX 77625
X-ALT-DESC;FMTTYPE=text/html:Long Leaf Pine Planting and Restoration Day at the Big Thicket Preserve<br /><br />12/13/25 09:00 AM CST - 12/13/25 12:00 PM CST<br />Description:<br />The Houston Sierra Club (HSC) provides members and the public with information and encourages them to follow through based upon that information.<br />
<br />
The following outing, which plants native trees and/or other plants in Big Thicket National Preserve (BTNP), isn&rsquo;t a Sierra Club sponsored service outing but is a National Park Service (NPS) official event. The HSC encourages our members and the public to participate and give back to our National Park public lands with this NPS event.<br />
<br />
On Saturday, December 13, 2025, from 9 am to noon, the NPS and others will plant Longleaf Pine tree seedlings and/or other native plants to restore this forest ecosystem in the Big Sandy Creek Unit of BTNP.<br />
<br />
All equipment will be provided by the NPS. Information packets will be sent to all registered volunteers prior to the planting day which will give the planting location and the most up-to-date logistical information. The exact location for this planting day is to be determined and will be sent out to participants via email before the planting day. Snacks and lunch will be provided!<br />
<br />
<a href="https://www.meetup.com/houston-sierra-club-outings/events/311636913/?response=3&amp;utm_medium=email&amp;utm_source=braze_canvas&amp;utm_campaign=mmrk_alleng_event_announcement_prod_unfiltered_v7_en&amp;utm_term=promo&amp;utm_content=lp_meetup&amp;dispatch_id=68f80cecb091ebcb68eeb96e5f44d25b">Register Here</a><br />
&nbsp;
<p>You must sign-up, via&nbsp;<a href="http://volunteer.gov./" rel="nofollow ugc" target="_blank">Volunteer.gov.</a>&nbsp;Search at this site for Big Thicket so that you find, &ldquo;Longleaf Pine Planting and Restoration Day&rdquo;. For more information or if you have questions call Kevin Goodwin at 409-812-5121 or 409-951-6700.</p>

<p>People of all ages are welcome! Planting will occur, rain/shine, so dress for the weather. Wear clothes appropriate for the weather including long pants, long-sleeved shirt, hat, and close-toed shoes. Bring water, bug spray, and sunscreen. You&rsquo;ll hike from the parking area to the planting area and then back to the parking area. Planting will occur on uneven terrain.</p>

<p>Participate and protect our National Park System and join the NPS to make BTNP even better!</p>
<br />Location:<br />Big Sandy Creek Unit of the Big Thicket National Preserve<br />6102 FM 420 <br />Kountze, TX 77625
PRIORITY:3
TRANSP:TRANSPARENT
BEGIN:VALARM
TRIGGER:-PT5M
ACTION:DISPLAY
DESCRIPTION:Reminder
END:VALARM
END:VEVENT
END:VCALENDAR
