BEGIN:VCALENDAR
VERSION:2.0
CALSCALE:GREGORIAN
METHOD:PUBLISH
PRODID://CEC//203175
BEGIN:VEVENT
DTSTAMP:20260419T133717
VTIMEZONE:America/Chicago
DTSTART:20260125T153000Z
DTEND:20260125T193000Z
UID:203175
SUMMARY:Harris County Voter Registration Event
LOCATION:Christ the King Evangelical Lutheran Church, 2353 Rice Blvd., Houston, TX, 77005
DESCRIPTION:Harris County Voter Registration Event\n\n01/25/26 09:30 AM CST\n - 01/25/26 01:30 PM CST\Description:\nIf you are not registered to vote in Harris County, or if you have moved &amp; need to update your\nregistration, you can do so at Christ the King Evangelical Lutheran Church in Houston on Sunday, January\n25 - just in time for the primaries on March 3 (in Texas, you must be registered one month or more prior\nto an election in order to vote in that election). To check if you are registered, and at what address, see\nhttps://www.hctax.net/Voter/Search. Bring your TX driver’s license, or state-issued i.d. to register. Or, if\nyou don’t have these forms of identification, you can register using the last 4 digits of your social\nsecurity number. Get ready to vote in March by registering/updating your registration in January! For\nmore information, contact Lisa Brenskelle at gcs.lrc@gmail.com.\Location:\nChrist the King Evangelical Lutheran Church\n2353 Rice Blvd.\nHouston, TX 77005
X-ALT-DESC;FMTTYPE=text/html:Harris County Voter Registration Event<br /><br />01/25/26 09:30 AM CST - 01/25/26 01:30 PM CST<br />Description:<br />If you are not registered to vote in Harris County, or if you have moved &amp;amp; need to update your<br />
registration, you can do so at Christ the King Evangelical Lutheran Church in Houston on Sunday, January<br />
25 - just in time for the primaries on March 3 (in Texas, you must be registered one month or more prior<br />
to an election in order to vote in that election). To check if you are registered, and at what address, see<br />
<a href="https://www.hctax.net/Voter/Search">https://www.hctax.net/Voter/Search</a>. Bring your TX driver&rsquo;s license, or state-issued i.d. to register. Or, if<br />
you don&rsquo;t have these forms of identification, you can register using the last 4 digits of your social<br />
security number. Get ready to vote in March by registering/updating your registration in January! For<br />
more information, contact Lisa Brenskelle at gcs.lrc@gmail.com.<br />Location:<br />Christ the King Evangelical Lutheran Church<br />2353 Rice Blvd.<br />Houston, TX 77005
PRIORITY:3
TRANSP:TRANSPARENT
BEGIN:VALARM
TRIGGER:-PT5M
ACTION:DISPLAY
DESCRIPTION:Reminder
END:VALARM
END:VEVENT
END:VCALENDAR
