BEGIN:VCALENDAR
VERSION:2.0
CALSCALE:GREGORIAN
METHOD:PUBLISH
PRODID://CEC//203176
BEGIN:VEVENT
DTSTAMP:20260419T133622
VTIMEZONE:America/Chicago
DTSTART:20260201T200000Z
DTEND:20260201T210000Z
UID:203176
SUMMARY:Harris County Climate Justice Plan
LOCATION:, TX
DESCRIPTION:Harris County Climate Justice Plan\n\n02/01/26 02:00 PM CST\n - 02/01/26 03:00 PM CST\Description:\nJoin Lisa Lin, Harris County’s Director of Sustainability, as she provides an overview of the Harris County\nClimate Justice Plan, the first plan of its kind in the U.S. approved at the county level. In her talk, Lisa will\nshare how co-leading the plan development with the Coalition for Environment, Equity, and Resilience\n(CEER) shaped the outcome of the plan and how that approach has informed the implementation phase,\nwhich is still rooted in community-determined, community-led solutions. Learn how your faith\ncommunity can engage in the Harris County Climate Justice Plan! An opportunity for Q&amp;A with the\nspeaker will follow. Register for this event on www.eventbrite.com at:\nhttps://www.eventbrite.com/e/1976666855776. All registrants will receive the recording of the event.\nFor more information about this event, please contact Lisa Brenskelle at gcs.lrc@gmail.com.
X-ALT-DESC;FMTTYPE=text/html:Harris County Climate Justice Plan<br /><br />02/01/26 02:00 PM CST - 02/01/26 03:00 PM CST<br />Description:<br />Join Lisa Lin, Harris County&rsquo;s Director of Sustainability, as she provides an overview of the Harris County<br />
Climate Justice Plan, the first plan of its kind in the U.S. approved at the county level. In her talk, Lisa will<br />
share how co-leading the plan development with the Coalition for Environment, Equity, and Resilience<br />
(CEER) shaped the outcome of the plan and how that approach has informed the implementation phase,<br />
which is still rooted in community-determined, community-led solutions. Learn how your faith<br />
community can engage in the Harris County Climate Justice Plan! An opportunity for Q&amp;amp;A with the<br />
speaker will follow. Register for this event on www.eventbrite.com at:<br />
<a href="https://www.eventbrite.com/e/harris-county-climate-justice-plan-tickets-1976666855776">https://www.eventbrite.com/e/1976666855776</a>. All registrants will receive the recording of the event.<br />
For more information about this event, please contact Lisa Brenskelle at gcs.lrc@gmail.com.
PRIORITY:3
TRANSP:TRANSPARENT
BEGIN:VALARM
TRIGGER:-PT5M
ACTION:DISPLAY
DESCRIPTION:Reminder
END:VALARM
END:VEVENT
END:VCALENDAR
