BEGIN:VCALENDAR
VERSION:2.0
CALSCALE:GREGORIAN
METHOD:PUBLISH
PRODID://CEC//203180
BEGIN:VEVENT
DTSTAMP:20260419T133635
VTIMEZONE:America/Chicago
DTSTART:20260204T000000Z
DTEND:20260204T010000Z
UID:203180
SUMMARY:Climate Solutions 101
LOCATION:, TX
DESCRIPTION:Climate Solutions 101\n\n02/03/26 06:00 PM CST\n - 02/03/26 07:00 PM CST\Description:\nTuesdays, January 13 – February 17, 6 p.m. central, online\nThink there is no solution to climate change? Nothing could be farther from the truth. Effective climate\nsolutions are available now! Climate Solutions 101 is the world’s first major educational effort focused\nsolely on climate solutions. Rather than rehashing well-known climate challenges, these materials from\nProject Drawdown concentrate on game-changing climate action based on rigorous scientific research\nand analysis. This course, presented in video units and in-depth conversations, combines Project\nDrawdown’s trusted resources with the expertise of several inspiring voices from around the world.\nClimate solutions become attainable with increased access to free, science-based educational resources,\nelevated public discourse, and tangible examples of real-world action. Continue your climate solutions\njourney, today. Join others for a weekly online discussion on climate solutions! Register for this course\non www.eventbrite.com at: https://www.eventbrite.com/e/1975010325048. Contact Lisa Brenskelle at\ngcs.lrc@gmail.com for more information.
X-ALT-DESC;FMTTYPE=text/html:Climate Solutions 101<br /><br />02/03/26 06:00 PM CST - 02/03/26 07:00 PM CST<br />Description:<br />Tuesdays, January 13 &ndash; February 17, 6 p.m. central, online<br />
Think there is no solution to climate change? Nothing could be farther from the truth. Effective climate<br />
solutions are available now! Climate Solutions 101 is the world&rsquo;s first major educational effort focused<br />
solely on climate solutions. Rather than rehashing well-known climate challenges, these materials from<br />
Project Drawdown concentrate on game-changing climate action based on rigorous scientific research<br />
and analysis. This course, presented in video units and in-depth conversations, combines Project<br />
Drawdown&rsquo;s trusted resources with the expertise of several inspiring voices from around the world.<br />
Climate solutions become attainable with increased access to free, science-based educational resources,<br />
elevated public discourse, and tangible examples of real-world action. Continue your climate solutions<br />
journey, today. Join others for a weekly online discussion on climate solutions! Register for this course<br />
on www.eventbrite.com at: <a href="https://www.eventbrite.com/e/climate-solutions-101-tickets-1975010325048">https://www.eventbrite.com/e/1975010325048</a>. Contact Lisa Brenskelle at<br />
gcs.lrc@gmail.com for more information.
PRIORITY:3
TRANSP:TRANSPARENT
BEGIN:VALARM
TRIGGER:-PT5M
ACTION:DISPLAY
DESCRIPTION:Reminder
END:VALARM
END:VEVENT
END:VCALENDAR
