BEGIN:VCALENDAR
VERSION:2.0
CALSCALE:GREGORIAN
METHOD:PUBLISH
PRODID://CEC//203184
BEGIN:VEVENT
DTSTAMP:20260419T133805
VTIMEZONE:America/Chicago
DTSTART:20260120T000000Z
DTEND:20260120T010000Z
UID:203184
SUMMARY:Faithful Resilience: A Study on Climate Resilience for Faith Communities
LOCATION:, TX
DESCRIPTION:Faithful Resilience: A Study on Climate Resilience for Faith Communities\n\n01/19/26 06:00 PM CST\n - 01/19/26 07:00 PM CST\Description:\nMondays, January 12 – February 16, 6 p.m., online\nFaithful Resilience is a six-part weekly study on climate resilience for faith communities. The climate\ncrisis has arrived. Faith communities must not only react, but also prepare. Over the last decade,\nhurricanes have intensified, wildfires have burnt stronger, and heat waves have baked our cities. These\nevents can only be expected to get worse in the next decades. Most of our faith communities are not\nready for these climate-driven disasters. Yet, the communities who will be most threatened by climate\nchange also have an opportunity to play a pivotal role in building resilience in their towns and cities.\nWhether a faith community has a large facility, land, social capital, or something else, those assets can\nbe channeled into building climate resilience in preparation for the coming physical and spiritual storms\nof the climate crisis. Join us for this six-week weekly exploration and consider how your faith community\ncan become a force for climate resilience. To learn more/register, see:\nhttps://www.eventbrite.com/e/1975013162535. Contact Lisa Brenskelle at gcs.lrc@gmail.com for more\ninformation.\nTopics for the six-week exploration of how faith communities can become a force for climate resilience\nfor your community include:\nWeek 1: The Land We Inhabit\nWeek 2: The Fierce Urgency of Now\nWeek 3: Resilience &amp; Restoration\nWeek 4: Climate Migration\nWeek 5: Building Resilience\nWeek 6: Resilient Religion/Spirituality
X-ALT-DESC;FMTTYPE=text/html:Faithful Resilience: A Study on Climate Resilience for Faith Communities<br /><br />01/19/26 06:00 PM CST - 01/19/26 07:00 PM CST<br />Description:<br />Mondays, January 12 &ndash; February 16, 6 p.m., online<br />
Faithful Resilience is a six-part weekly study on climate resilience for faith communities. The climate<br />
crisis has arrived. Faith communities must not only react, but also prepare. Over the last decade,<br />
hurricanes have intensified, wildfires have burnt stronger, and heat waves have baked our cities. These<br />
events can only be expected to get worse in the next decades. Most of our faith communities are not<br />
ready for these climate-driven disasters. Yet, the communities who will be most threatened by climate<br />
change also have an opportunity to play a pivotal role in building resilience in their towns and cities.<br />
Whether a faith community has a large facility, land, social capital, or something else, those assets can<br />
be channeled into building climate resilience in preparation for the coming physical and spiritual storms<br />
of the climate crisis. Join us for this six-week weekly exploration and consider how your faith community<br />
can become a force for climate resilience. To learn more/register, see:<br />
<a href="https://www.eventbrite.com/e/faithful-resilience-a-study-on-climate-resilience-for-faith-communities-tickets-1975013162535">https://www.eventbrite.com/e/1975013162535</a>. Contact Lisa Brenskelle at gcs.lrc@gmail.com for more<br />
information.<br />
Topics for the six-week exploration of how faith communities can become a force for climate resilience<br />
for your community include:<br />
Week 1: The Land We Inhabit<br />
Week 2: The Fierce Urgency of Now<br />
Week 3: Resilience &amp;amp; Restoration<br />
Week 4: Climate Migration<br />
Week 5: Building Resilience<br />
Week 6: Resilient Religion/Spirituality
PRIORITY:3
TRANSP:TRANSPARENT
BEGIN:VALARM
TRIGGER:-PT5M
ACTION:DISPLAY
DESCRIPTION:Reminder
END:VALARM
END:VEVENT
END:VCALENDAR
