BEGIN:VCALENDAR
VERSION:2.0
CALSCALE:GREGORIAN
METHOD:PUBLISH
PRODID://CEC//203210
BEGIN:VEVENT
DTSTAMP:20260419T133635
VTIMEZONE:America/Chicago
DTSTART:20251213T140000Z
DTEND:20251213T180000Z
UID:203210
SUMMARY:Paddle for a Cleaner Greens Bayou with Greens Bayou Coalition
LOCATION:Thomas Bell Foster park, 12895 Greens Bayou Street, Houston, TX, 77015
DESCRIPTION:Paddle for a Cleaner Greens Bayou with Greens Bayou Coalition\n\n12/13/25 08:00 AM CST\n - 12/13/25 12:00 PM CST\Description:\nIf you have a kayak and want to help clean up Greens Bayou while paddling and enjoying the beauty of the bayou, join Greens Bayou Coalition on Saturday December 13th at Thomas Bell Foster park. Check-in starts at 8 a.m. Kayaks launch at 9 a.m. Register in advance here.\Location:\nThomas Bell Foster park\n12895 Greens Bayou Street\nHouston, TX 77015
X-ALT-DESC;FMTTYPE=text/html:Paddle for a Cleaner Greens Bayou with Greens Bayou Coalition<br /><br />12/13/25 08:00 AM CST - 12/13/25 12:00 PM CST<br />Description:<br />If you have a kayak and want to help clean up Greens Bayou while paddling and enjoying the beauty of the bayou, join Greens Bayou Coalition on Saturday December 13th at Thomas Bell Foster park. Check-in starts at 8 a.m. Kayaks launch at 9 a.m. Register in advance <a href="https://forms.cloud.microsoft/pages/responsepage.aspx?id=MvkH82jddUmcayVQtfcO7ZiZ2fvFOghHpHVJSkogg0FUMDlSSDY4VkhNR1gxS0JWNzlTRklWR0pNRC4u&amp;route=shorturl">here</a>.<br />Location:<br />Thomas Bell Foster park<br />12895 Greens Bayou Street<br />Houston, TX 77015
PRIORITY:3
TRANSP:TRANSPARENT
BEGIN:VALARM
TRIGGER:-PT5M
ACTION:DISPLAY
DESCRIPTION:Reminder
END:VALARM
END:VEVENT
END:VCALENDAR
