BEGIN:VCALENDAR
VERSION:2.0
CALSCALE:GREGORIAN
METHOD:PUBLISH
PRODID://CEC//204155
BEGIN:VEVENT
DTSTAMP:20260419T115208
VTIMEZONE:America/Chicago
DTSTART:20260121T150000Z
DTEND:20260121T160000Z
UID:204155
SUMMARY:Public Comment Opportunity - Texas Parks and Wildlife Commission Meeting
LOCATION:Texas Parks and Wildlife Department Headquarters, Commission Hearing Room, 4200 Smith School Road, Austin, TX, 78744
DESCRIPTION:Public Comment Opportunity - Texas Parks and Wildlife Commission Meeting\n\n01/21/26 09:00 AM CST\n - 01/21/26 10:00 AM CST\Description:\nNext Regular Commission Meeting:\n\n\n	Work Session: 9 a.m. Wednesday, January 21, 2026\n	 \n	Commission Meeting: 9 a.m. Thursday, January 22, 2026\n\n\n\n	Location: Texas Parks and Wildlife Department Headquarters, Commission Hearing Room, 4200 Smith School Road, Austin, TX 78744\n	 \n	Public Comment\n	 \n	Rules of Conduct\n	 \n	Live streaming video and audio will be available.\n\n\Location:\nTexas Parks and Wildlife Department Headquarters, Commission Hearing Room\n4200 Smith School Road\nAustin, TX 78744
X-ALT-DESC;FMTTYPE=text/html:Public Comment Opportunity - Texas Parks and Wildlife Commission Meeting<br /><br />01/21/26 09:00 AM CST - 01/21/26 10:00 AM CST<br />Description:<br /><h2>Next Regular Commission Meeting:</h2>

<ul>
	<li><strong>Work Session:</strong>&nbsp;9 a.m. Wednesday, January 21, 2026<br />
	&nbsp;</li>
	<li><strong>Commission Meeting:</strong>&nbsp;9 a.m. Thursday, January 22, 2026</li>
</ul>

<ul>
	<li><strong>Location:</strong>&nbsp;Texas Parks and Wildlife Department Headquarters, Commission Hearing Room,&nbsp;<a data-saferedirecturl="https://www.google.com/url?q=https://www.google.com/maps/search/4200%2BSmith%2BSchool%2BRoad,%2BAustin,%2BTX%2B78744?entry%3Dgmail%26source%3Dg&amp;source=gmail&amp;ust=1766587519584000&amp;usg=AOvVaw2v3NrG77lkwK8RiFCR9Plz" href="https://www.google.com/maps/search/4200+Smith+School+Road,+Austin,+TX+78744?entry=gmail&amp;source=g" target="_blank">4200 Smith School Road, Austin, TX 78744</a><br />
	&nbsp;</li>
	<li><a data-saferedirecturl="https://www.google.com/url?q=https://links-1.govdelivery.com/CL0/https:%252F%252Ftpwd.texas.gov%252Fbusiness%252Ffeedback%252Fpublic_comment%252F%253Futm_campaign%3DJanuary2026PubComment%2526utm_medium%3Demail%2526utm_source%3Dcommission/1/0100019b4b9e20fd-29af17de-6dda-44e2-baa3-e1f422d6078d-000000/hPM3z3GCVLUb6C_JlTlA-vMNSw1ColiO4sMUsVz57U0%3D436&amp;source=gmail&amp;ust=1766587519584000&amp;usg=AOvVaw2uKYuUcGeQArZKYt_ToEXC" href="https://links-1.govdelivery.com/CL0/https:%2F%2Ftpwd.texas.gov%2Fbusiness%2Ffeedback%2Fpublic_comment%2F%3Futm_campaign=January2026PubComment%26utm_medium=email%26utm_source=commission/1/0100019b4b9e20fd-29af17de-6dda-44e2-baa3-e1f422d6078d-000000/hPM3z3GCVLUb6C_JlTlA-vMNSw1ColiO4sMUsVz57U0=436" rel="noopener" target="_blank">Public Comment</a><br />
	&nbsp;</li>
	<li><a data-saferedirecturl="https://www.google.com/url?q=https://links-1.govdelivery.com/CL0/https:%252F%252Ftpwd.texas.gov%252Fbusiness%252Ffeedback%252Fmeetings%252Frules_of_conduct.phtml%253Futm_campaign%3DJanuary2026PubComment%2526utm_medium%3Demail%2526utm_source%3Dcommission/1/0100019b4b9e20fd-29af17de-6dda-44e2-baa3-e1f422d6078d-000000/9DgXpi1TlghsiorYDwtV-c2REZgxOUC0cws5ko1wlFY%3D436&amp;source=gmail&amp;ust=1766587519584000&amp;usg=AOvVaw3iuIBrTlrcqKdUQKPCWWzS" href="https://links-1.govdelivery.com/CL0/https:%2F%2Ftpwd.texas.gov%2Fbusiness%2Ffeedback%2Fmeetings%2Frules_of_conduct.phtml%3Futm_campaign=January2026PubComment%26utm_medium=email%26utm_source=commission/1/0100019b4b9e20fd-29af17de-6dda-44e2-baa3-e1f422d6078d-000000/9DgXpi1TlghsiorYDwtV-c2REZgxOUC0cws5ko1wlFY=436" rel="noopener" target="_blank">Rules of Conduct</a><br />
	&nbsp;</li>
	<li>Live streaming video and audio will be available.</li>
</ul>
<br />Location:<br />Texas Parks and Wildlife Department Headquarters, Commission Hearing Room<br />4200 Smith School Road<br />Austin, TX 78744
PRIORITY:3
TRANSP:TRANSPARENT
BEGIN:VALARM
TRIGGER:-PT5M
ACTION:DISPLAY
DESCRIPTION:Reminder
END:VALARM
END:VEVENT
END:VCALENDAR
