BEGIN:VCALENDAR
VERSION:2.0
CALSCALE:GREGORIAN
METHOD:PUBLISH
PRODID://CEC//204848
BEGIN:VEVENT
DTSTAMP:20260419T115316
VTIMEZONE:America/Chicago
DTSTART:20260319T230000Z
DTEND:20260320T000000Z
UID:204848
SUMMARY:Changing by Choice
LOCATION:, TX
DESCRIPTION:Changing by Choice\n\n03/19/26 06:00 PM CST\n - 03/19/26 07:00 PM CST\Description:\nIf we know what we need to do, why do we fail to do it?\nThis study invites us to apply this age-old question of faith to the problem of climate change.\nThe study features videos recorded at the global climate negotiations in November 2025 and\nintroduces the Global Ethical Stocktake, a discussion framework developed in 2025 to guide a\nglobal conversation on the ethics of climate change. With grace and urgency, this study will\nopen space to ask hard questions and gain insights into the issue of climate change—and our\nresponsibilities to each other.\nChanging by Choice considers climate change as it intersects with other core concerns for faith\ncommunities, including hunger; migration; disaster response; and violent conflict. And, using\nthe Global Ethical Stocktake framework, it brings your group into conversation with people in\nlocal communities around the world.\nJoin the discussion by registering on eventbrite at:\nhttps://www.eventbrite.com/e/1979825213509. Contact Lisa Brenskelle at gcs.lrc@gmail.com\nwith any questions about this class.
X-ALT-DESC;FMTTYPE=text/html:Changing by Choice<br /><br />03/19/26 06:00 PM CST - 03/19/26 07:00 PM CST<br />Description:<br />If we know what we need to do, why do we fail to do it?<br />
This study invites us to apply this age-old question of faith to the problem of climate change.<br />
The study features videos recorded at the global climate negotiations in November 2025 and<br />
introduces the Global Ethical Stocktake, a discussion framework developed in 2025 to guide a<br />
global conversation on the ethics of climate change. With grace and urgency, this study will<br />
open space to ask hard questions and gain insights into the issue of climate change&mdash;and our<br />
responsibilities to each other.<br />
Changing by Choice considers climate change as it intersects with other core concerns for faith<br />
communities, including hunger; migration; disaster response; and violent conflict. And, using<br />
the Global Ethical Stocktake framework, it brings your group into conversation with people in<br />
local communities around the world.<br />
Join the discussion by registering on eventbrite at:<br />
https://www.eventbrite.com/e/1979825213509. Contact Lisa Brenskelle at gcs.lrc@gmail.com<br />
with any questions about this class.
PRIORITY:3
TRANSP:TRANSPARENT
BEGIN:VALARM
TRIGGER:-PT5M
ACTION:DISPLAY
DESCRIPTION:Reminder
END:VALARM
END:VEVENT
END:VCALENDAR
