BEGIN:VCALENDAR
VERSION:2.0
CALSCALE:GREGORIAN
METHOD:PUBLISH
PRODID://CEC//204850
BEGIN:VEVENT
DTSTAMP:20260419T133623
VTIMEZONE:America/Chicago
DTSTART:20260222T200000Z
DTEND:20260222T220000Z
UID:204850
SUMMARY:Beach Clean-Up
LOCATION:Surfside Beach, Highway 332 at Surf Drive, TX, 77541
DESCRIPTION:Beach Clean-Up\n\n02/22/26 02:00 PM CST\n - 02/22/26 04:00 PM CST\Description:\nSurfside Beach\nHighway 332 at Surf Drive\nVillage of Surfside Beach, Texas 77541\n\nCalling people of all faiths, or no faith at all, to care for our common home in a beach clean-up in\nSurfside! We will remove trash polluting a shoreline at Surfside Beach, helping to protect and restore\nour beautiful Gulf. This event will offer activities for all ages and skill levels, so bring the whole family!\nSupplies will be provided. You just need a reusable water bottle and closed-toe shoes. This beach clean-\nup is organized by the Interfaith Environmental Network of Houston in partnership with the Village of\nSurfside Beach. Registration for this event is limited and required for participation. Specific meeting\nlocation in Surfside Beach will be sent to all registrants several days prior to the event. Register on\nwww.eventbrite.com at https://www.eventbrite.com/e/1979233877808. Contact Lisa Brenskelle at\ngcs.lrc@gmail.com with any questions.\Location:\nSurfside Beach\nHighway 332 at Surf Drive\n, TX 77541
X-ALT-DESC;FMTTYPE=text/html:Beach Clean-Up<br /><br />02/22/26 02:00 PM CST - 02/22/26 04:00 PM CST<br />Description:<br />Surfside Beach<br />
Highway 332 at Surf Drive<br />
Village of Surfside Beach, Texas 77541<br />
<br />
Calling people of all faiths, or no faith at all, to care for our common home in a beach clean-up in<br />
Surfside! We will remove trash polluting a shoreline at Surfside Beach, helping to protect and restore<br />
our beautiful Gulf. This event will offer activities for all ages and skill levels, so bring the whole family!<br />
Supplies will be provided. You just need a reusable water bottle and closed-toe shoes. This beach clean-<br />
up is organized by the Interfaith Environmental Network of Houston in partnership with the Village of<br />
Surfside Beach. Registration for this event is limited and required for participation. Specific meeting<br />
location in Surfside Beach will be sent to all registrants several days prior to the event. Register on<br />
www.eventbrite.com at <a href="https://www.eventbrite.com/e/1979233877808">https://www.eventbrite.com/e/1979233877808</a>. Contact Lisa Brenskelle at<br />
gcs.lrc@gmail.com with any questions.<br />Location:<br />Surfside Beach<br />Highway 332 at Surf Drive<br />, TX 77541
PRIORITY:3
TRANSP:TRANSPARENT
BEGIN:VALARM
TRIGGER:-PT5M
ACTION:DISPLAY
DESCRIPTION:Reminder
END:VALARM
END:VEVENT
END:VCALENDAR
