BEGIN:VCALENDAR
VERSION:2.0
CALSCALE:GREGORIAN
METHOD:PUBLISH
PRODID://CEC//204855
BEGIN:VEVENT
DTSTAMP:20260419T133716
VTIMEZONE:America/Chicago
DTSTART:20260303T000000Z
DTEND:20260303T010000Z
UID:204855
SUMMARY:The Path of Hope: A Study on Climate Action for Faith Communities
LOCATION:, TX
DESCRIPTION:The Path of Hope: A Study on Climate Action for Faith Communities\n\n03/02/26 06:00 PM CST\n - 03/02/26 07:00 PM CST\Description:\nYou are invited to join an online discussion series built around 15-minute videos featuring\ninterviews with US faith leaders, representatives of climate-impacted communities from the\nglobal South, and presentations by UN officials and other experts. The videos walk viewers\nthrough four key climate policy issues that intersect with universal faith concerns for vulnerable\nand marginalized people. The series focuses on how climate change is impacting the core\noutreach programs of faith communities around the world, how those impacts will increase in\nthe future, and why these impacts create an imperative for people of faith to advocate for\nstrong US climate action. A discussion guide is included that asks participants to think deeply\nabout how their own local faith community’s direct service programs intersect with climate\nimpacts, and how knowledge and experiences gained through these programs might help to\ninform climate policy. The study’s Action Center provides practical, step-by-step instructions for\nadvocacy activities, as well as recommended policy asks for local, state, and national leaders.\nJoin us! Please register on www.eventbrite.com at\nhttps://www.eventbrite.com/e/1979232494671. Contact Lisa Brenskelle at gcs.lrc@gmail.com\nfor more information.
X-ALT-DESC;FMTTYPE=text/html:The Path of Hope: A Study on Climate Action for Faith Communities<br /><br />03/02/26 06:00 PM CST - 03/02/26 07:00 PM CST<br />Description:<br />You are invited to join an online discussion series built around 15-minute videos featuring<br />
interviews with US faith leaders, representatives of climate-impacted communities from the<br />
global South, and presentations by UN officials and other experts. The videos walk viewers<br />
through four key climate policy issues that intersect with universal faith concerns for vulnerable<br />
and marginalized people. The series focuses on how climate change is impacting the core<br />
outreach programs of faith communities around the world, how those impacts will increase in<br />
the future, and why these impacts create an imperative for people of faith to advocate for<br />
strong US climate action. A discussion guide is included that asks participants to think deeply<br />
about how their own local faith community&rsquo;s direct service programs intersect with climate<br />
impacts, and how knowledge and experiences gained through these programs might help to<br />
inform climate policy. The study&rsquo;s Action Center provides practical, step-by-step instructions for<br />
advocacy activities, as well as recommended policy asks for local, state, and national leaders.<br />
Join us! Please register on www.eventbrite.com at<br />
<a href="https://www.eventbrite.com/e/1979232494671">https://www.eventbrite.com/e/1979232494671</a>. Contact Lisa Brenskelle at gcs.lrc@gmail.com<br />
for more information.
PRIORITY:3
TRANSP:TRANSPARENT
BEGIN:VALARM
TRIGGER:-PT5M
ACTION:DISPLAY
DESCRIPTION:Reminder
END:VALARM
END:VEVENT
END:VCALENDAR
