BEGIN:VCALENDAR
VERSION:2.0
CALSCALE:GREGORIAN
METHOD:PUBLISH
PRODID://CEC//204859
BEGIN:VEVENT
DTSTAMP:20260419T085234
VTIMEZONE:America/Chicago
DTSTART:20260304T000000Z
DTEND:20260304T010000Z
UID:204859
SUMMARY:Drawdown Roadmap
LOCATION:, TX
DESCRIPTION:Drawdown Roadmap\n\n03/03/26 06:00 PM CST\n - 03/03/26 07:00 PM CST\Description:\nYou may know that there are many possible solutions to combat climate change. But, how do we focus\nour efforts, create the most effective plan and really make a difference on climate before it’s too late?\nThe Drawdown Roadmap is a science-based strategy for accelerating climate solutions, pointing to\nwhich climate actions governments, businesses, investors, philanthropists, community organizations,\nand others should prioritize to make the most of our efforts to stop climate change. Attend this 4-week\ncourse to understand the roadmap, and consider how to actualize it in your business, community\norganization, investments and more. To learn more/register, see:\nhttps://www.eventbrite.com/e/1979231330188. Contact Lisa Brenskelle at gcs.lrc@gmail.com for more\ninformation.
X-ALT-DESC;FMTTYPE=text/html:Drawdown Roadmap<br /><br />03/03/26 06:00 PM CST - 03/03/26 07:00 PM CST<br />Description:<br />You may know that there are many possible solutions to combat climate change. But, how do we focus<br />
our efforts, create the most effective plan and really make a difference on climate before it&rsquo;s too late?<br />
The Drawdown Roadmap is a science-based strategy for accelerating climate solutions, pointing to<br />
which climate actions governments, businesses, investors, philanthropists, community organizations,<br />
and others should prioritize to make the most of our efforts to stop climate change. Attend this 4-week<br />
course to understand the roadmap, and consider how to actualize it in your business, community<br />
organization, investments and more. To learn more/register, see:<br />
<a href="https://www.eventbrite.com/e/1979231330188">https://www.eventbrite.com/e/1979231330188</a>. Contact Lisa Brenskelle at gcs.lrc@gmail.com for more<br />
information.
PRIORITY:3
TRANSP:TRANSPARENT
BEGIN:VALARM
TRIGGER:-PT5M
ACTION:DISPLAY
DESCRIPTION:Reminder
END:VALARM
END:VEVENT
END:VCALENDAR
