BEGIN:VCALENDAR
VERSION:2.0
CALSCALE:GREGORIAN
METHOD:PUBLISH
PRODID://CEC//204865
BEGIN:VEVENT
DTSTAMP:20260419T133623
VTIMEZONE:America/Chicago
DTSTART:20260113T003000Z
DTEND:20260113T013000Z
UID:204865
SUMMARY:SC Water for People & Env. Committee: The Water Footprint of Quarry Operations
LOCATION:, TX
DESCRIPTION:SC Water for People & Env. Committee: The Water Footprint of Quarry Operations\n\n01/12/26 06:30 PM CST\n - 01/12/26 07:30 PM CST\Description:\nLink to register:\nMeeting Registration - Zoom\n\nThis is the Water for People & Environment Committee's meeting for all Texans interested in water issues, advocacy, organizing and networking.\nJanuary 12 Topic:\nThe Water Footprint of Quarry Operations\nSpeaker: Dr. Christina Schwerdtfeger, Coalition for Responsible Environmental Aggregate Mining (CREAM)
X-ALT-DESC;FMTTYPE=text/html:SC Water for People & Env. Committee: The Water Footprint of Quarry Operations<br /><br />01/12/26 06:30 PM CST - 01/12/26 07:30 PM CST<br />Description:<br /><strong>Link to register:</strong><br />
<strong><a href="https://sierraclub.zoom.us/meeting/register/tJEucu2pqjguGdBcXlMRiB9z5HCYvli_ElAE#/registration" rel="nofollow ugc" target="_blank">Meeting Registration - Zoom</a></strong><br />
<br />
This is the&nbsp;<strong><a href="https://www.sierraclub.org/texas/blog/2024/11/get-involved-protect-texas-water-water-people-environment-committee" rel="nofollow ugc" target="_blank">Water for People &amp; Environment Committee's</a></strong>&nbsp;meeting for all Texans interested in water issues, advocacy, organizing and networking.<br />
<strong>January 12 Topic:</strong><br />
<strong>The Water Footprint of Quarry Operations</strong><br />
Speaker: Dr. Christina Schwerdtfeger, Coalition for Responsible Environmental Aggregate Mining (CREAM)
PRIORITY:3
TRANSP:TRANSPARENT
BEGIN:VALARM
TRIGGER:-PT5M
ACTION:DISPLAY
DESCRIPTION:Reminder
END:VALARM
END:VEVENT
END:VCALENDAR
