BEGIN:VCALENDAR
VERSION:2.0
CALSCALE:GREGORIAN
METHOD:PUBLISH
PRODID://CEC//204866
BEGIN:VEVENT
DTSTAMP:20260419T133716
VTIMEZONE:America/Chicago
DTSTART:20260110T140000Z
DTEND:20260110T180000Z
UID:204866
SUMMARY:Tree Planting Volunteers Needed
LOCATION:, 2201 Bay Area Blvd., TX
DESCRIPTION:Tree Planting Volunteers Needed\n\n01/10/26 08:00 AM CST\n - 01/10/26 12:00 PM CST\Description:\nExploration Green's last Big Tree Planting Events for the season on January 17th from 8 am to noon. They really could use all the help we can get. You will be doing prep work on January 10 and 11th from 8 to 11 am and if needed again on January 14 and 15. Please check with the leads for additional information.\n\nDRESS for the WEATHER AND HYDRATE EVERY 15 MINUTES – SAFETY FIRST\n\nWear sturdy close-toed shoes that can get wet/dirty/muddy.\n\nGeneral sun protection is advised. (Sunblock, sunhats, etc.) as well as insect repellent. ï»¿A water bottle is always required.\n\nNursery Work next to parking at 2201 Bay Area Blvd., Beautyberry Pond (P5)\n\nTree Team:\n\nLead Contact Person is Lisa Martinez at fallingboulders@att.net\n\Location:\n\n2201 Bay Area Blvd.\n, TX
X-ALT-DESC;FMTTYPE=text/html:Tree Planting Volunteers Needed<br /><br />01/10/26 08:00 AM CST - 01/10/26 12:00 PM CST<br />Description:<br /><p>Exploration Green's last Big Tree Planting Events for the season on January 17th from 8 am to noon. They&nbsp;really could use all the help we can get. You&nbsp;will be doing prep work on&nbsp;January 10 and 11th from 8 to 11 am&nbsp;and if needed again on January 14 and 15. Please check with the&nbsp;leads for additional information.</p>

<p>DRESS for the WEATHER AND HYDRATE EVERY 15 MINUTES &ndash; SAFETY FIRST</p>

<p>Wear sturdy close-toed shoes that can get wet/dirty/muddy.</p>

<p>General sun protection is advised. (Sunblock, sunhats, etc.) as well as insect repellent.&nbsp;ï»¿A water bottle is always required.</p>

<p>Nursery Work next to parking at 2201 Bay Area Blvd., Beautyberry Pond (P5)</p>

<p>Tree Team:</p>

<p>Lead Contact Person is Lisa Martinez at&nbsp;<a href="mailto:fallingboulders@att.net" rel="noopener noreferrer" target="_blank">fallingboulders@att.net</a></p>
<br />Location:<br /><br />2201 Bay Area Blvd.<br />, TX 
PRIORITY:3
TRANSP:TRANSPARENT
BEGIN:VALARM
TRIGGER:-PT5M
ACTION:DISPLAY
DESCRIPTION:Reminder
END:VALARM
END:VEVENT
END:VCALENDAR
