BEGIN:VCALENDAR
VERSION:2.0
CALSCALE:GREGORIAN
METHOD:PUBLISH
PRODID://CEC//204869
BEGIN:VEVENT
DTSTAMP:20260419T133622
VTIMEZONE:America/Chicago
DTSTART:20260117T140000Z
DTEND:20260117T173000Z
UID:204869
SUMMARY:Tree Adoption Volunteers Needed
LOCATION:Houston Kinder Campus , TX
DESCRIPTION:Tree Adoption Volunteers Needed\n\n01/17/26 08:00 AM CST\n - 01/17/26 11:30 AM CST\Description:\n\n	\n		\n			\n			Trees for Houston are looking for volunteers to assist with their upcoming Tree Adoption events on both Saturday, January 10th and Saturday, January 17th at the Trees For Houston Kinder Campus from 8:00am - 11:30am. \n\n			Between both events, they will be distributing 1,750 trees into the community. They will need volunteers to assist with loading the 1-gallon trees into participant's cars.\n			\n			You can sign up to participate in either one or both of the Tree Adoption Events. \n\n			For more information and to sign up, please click the button below\n			\n		\n	\n\n\n\n	\n		\n			Information and Signup Form \n		\n	\n\n\Location:\nHouston Kinder Campus \n\n, TX
X-ALT-DESC;FMTTYPE=text/html:Tree Adoption Volunteers Needed<br /><br />01/17/26 08:00 AM CST - 01/17/26 11:30 AM CST<br />Description:<br /><table border="0" role="presentation" style="width:100%">
	<tbody>
		<tr>
			<td>
			<p>Trees for Houston are looking for volunteers to assist with their&nbsp;upcoming Tree Adoption events on both&nbsp;<em>Saturday, January 10th</em>&nbsp;and&nbsp;<em>Saturday, January 17th</em>&nbsp;at the Trees For Houston Kinder Campus from 8:00am - 11:30am.&nbsp;</p>

			<p>Between both events, they&nbsp;will be distributing 1,750 trees into the community. They&nbsp;will need volunteers to assist with loading the 1-gallon trees into participant's cars.<br />
			<br />
			You can sign up to participate in either one or both of the Tree Adoption Events.&nbsp;</p>

			<p><strong>For more information and to sign up, please click the button below</strong></p>
			</td>
		</tr>
	</tbody>
</table>

<table border="0" role="presentation" style="width:100%">
	<tbody>
		<tr>
			<td><a data-saferedirecturl="https://www.google.com/url?q=https://u14783757.ct.sendgrid.net/ls/click?upn%3Du001.JHimHwXagta-2BhZB3IvOvutToxhsqSPZv-2FkqNHizroIzTPIbCyhw9RxlzSa8dMoMAW0c4FqlBoTxwgu8N8XeIiI8eZJXeAlLtehOI4ewAShag1qnX2kG1eR6dGB-2BHe1zK6fzt_PV86ToKjsaRRJIv7j1KOX7d9sV74XYFE7c3tI1EDkimp66oPsDU-2BLmkcwY1Kn0DYlWsMGqZqrj22fqP3X8eKZ-2FjzVic-2FMo4r6i5gaOsIgF-2BcmC-2BYwjr1kUpcEkDAAcNFiiu-2B1sG-2FF-2FZioIQRxnN3FFPuPIVtbkGHyBK53yNsTd81VWW2QeI2owb8hKbI9nI8nQMyqBjScUSa21dw0eaug98vfxSVMMGLpeknyNS42FdX-2BMjyJ-2FwKoDy-2FDe3wzdLWqU8-2FLruQcbaq6ljTA7kYM6Ww0XLLUy93LjypG0yD55lpNPBwdiIOW05mLyFpJ98dB6m12mIMbAiGNg1Ff-2FOwyhShYKlgqf4Dv60WCsF5zxsiq-2FMoTH22xO0nV5jHywWJ&amp;source=gmail&amp;ust=1767808673770000&amp;usg=AOvVaw3nKvweSTrVTM14TBc-BQ0U" href="https://u14783757.ct.sendgrid.net/ls/click?upn=u001.JHimHwXagta-2BhZB3IvOvutToxhsqSPZv-2FkqNHizroIzTPIbCyhw9RxlzSa8dMoMAW0c4FqlBoTxwgu8N8XeIiI8eZJXeAlLtehOI4ewAShag1qnX2kG1eR6dGB-2BHe1zK6fzt_PV86ToKjsaRRJIv7j1KOX7d9sV74XYFE7c3tI1EDkimp66oPsDU-2BLmkcwY1Kn0DYlWsMGqZqrj22fqP3X8eKZ-2FjzVic-2FMo4r6i5gaOsIgF-2BcmC-2BYwjr1kUpcEkDAAcNFiiu-2B1sG-2FF-2FZioIQRxnN3FFPuPIVtbkGHyBK53yNsTd81VWW2QeI2owb8hKbI9nI8nQMyqBjScUSa21dw0eaug98vfxSVMMGLpeknyNS42FdX-2BMjyJ-2FwKoDy-2FDe3wzdLWqU8-2FLruQcbaq6ljTA7kYM6Ww0XLLUy93LjypG0yD55lpNPBwdiIOW05mLyFpJ98dB6m12mIMbAiGNg1Ff-2FOwyhShYKlgqf4Dv60WCsF5zxsiq-2FMoTH22xO0nV5jHywWJ" target="_blank">Information and Signup Form&nbsp;</a></td>
		</tr>
	</tbody>
</table>
<br />Location:<br />Houston Kinder Campus <br /><br />, TX 
PRIORITY:3
TRANSP:TRANSPARENT
BEGIN:VALARM
TRIGGER:-PT5M
ACTION:DISPLAY
DESCRIPTION:Reminder
END:VALARM
END:VEVENT
END:VCALENDAR
