BEGIN:VCALENDAR
VERSION:2.0
CALSCALE:GREGORIAN
METHOD:PUBLISH
PRODID://CEC//204872
BEGIN:VEVENT
DTSTAMP:20260419T133551
VTIMEZONE:America/Chicago
DTSTART:20260107T233000Z
DTEND:20260108T003000Z
UID:204872
SUMMARY:Hermann Park Town Hall Meeting: Hospital Expansion & Impacts on Hermann Park
LOCATION:Cherie Flores Garden Pavilion (in Hermann Park), TX
DESCRIPTION:Hermann Park Town Hall Meeting: Hospital Expansion & Impacts on Hermann Park\n\n01/07/26 05:30 PM CST\n - 01/07/26 06:30 PM CST\Description:\nHERMANN PARK CONSERVANCY: TOWN HALL MEETING\n"Understanding the Proposed Ben Taub Expansion and Its Impact on Hermann Park"\n\nHarris Health has proposed condemning 8.9 acres of Hermann Park for the expansion of Ben Taub Hospital. Hermann Park Conservancy is hosting a town hall to share information about the proposal and to offer the community an opportunity to ask questions.\Location:\nCherie Flores Garden Pavilion (in Hermann Park)\n\n, TX
X-ALT-DESC;FMTTYPE=text/html:Hermann Park Town Hall Meeting: Hospital Expansion & Impacts on Hermann Park<br /><br />01/07/26 05:30 PM CST - 01/07/26 06:30 PM CST<br />Description:<br /><strong>HERMANN PARK CONSERVANCY: TOWN HALL MEETING</strong><br />
<strong>&quot;Understanding the Proposed Ben Taub Expansion and Its Impact on Hermann Park&quot;</strong><br />
<br />
<strong>Harris Health has proposed condemning 8.9 acres of Hermann Park for the expansion of Ben Taub Hospital. Hermann Park Conservancy is hosting a town hall to share information about the proposal and to offer the community an opportunity to ask questions.</strong><br />Location:<br />Cherie Flores Garden Pavilion (in Hermann Park)<br /><br />, TX 
PRIORITY:3
TRANSP:TRANSPARENT
BEGIN:VALARM
TRIGGER:-PT5M
ACTION:DISPLAY
DESCRIPTION:Reminder
END:VALARM
END:VEVENT
END:VCALENDAR
