BEGIN:VCALENDAR
VERSION:2.0
CALSCALE:GREGORIAN
METHOD:PUBLISH
PRODID://CEC//205127
BEGIN:VEVENT
DTSTAMP:20260419T133638
VTIMEZONE:America/Chicago
DTSTART:20260111T210000Z
DTEND:20260111T223000Z
UID:205127
SUMMARY:Faith Perspectives Panel: Faith & Water
LOCATION:, TX
DESCRIPTION:Faith Perspectives Panel: Faith & Water\n\n01/11/26 03:00 PM CST\n - 01/11/26 04:30 PM CST\Description:\nSunday, Jan. 11, 3 p.m. central, online\nWater is the foundation of life, and a basic human right. The Organization for Economic Co-operation\nand Development states that freshwater resources are of major environmental, economic and social\nimportance and that the ocean is vital for human activities and well-being. But, issues of water pollution\nand scarcity put this precious resource in peril. The Interfaith Environmental Network of Houston invites\nyou to hear multiple faith perspectives on the topic of Faith &amp; Water. A panel of speakers of a variety of\nfaith backgrounds will each address this topic through the lens of their faith. An opportunity for Q&amp;A\nwith the panel will follow. People of all faiths are encouraged to attend, as are representatives of local\nenvironmental non-profits that would like to work with people of faith on environmental issues.  Please\njoin us!  This event has been organized by the Interfaith Environmental Network of Houston, which acts\nto empower the faith community in the greater Houston area to act and advocate on behalf of the\nenvironment. Register for this event on www.eventbrite.com at:\nhttps://www.eventbrite.com/e/1975013719200. All registrants will receive the recording of the event.\nFor more information about this event, or the Interfaith Environmental Network of Houston, please\ncontact Lisa Brenskelle at gcs.lrc@gmail.com.
X-ALT-DESC;FMTTYPE=text/html:Faith Perspectives Panel: Faith & Water<br /><br />01/11/26 03:00 PM CST - 01/11/26 04:30 PM CST<br />Description:<br />Sunday, Jan. 11, 3 p.m. central, online<br />
Water is the foundation of life, and a basic human right. The Organization for Economic Co-operation<br />
and Development states that freshwater resources are of major environmental, economic and social<br />
importance and that the ocean is vital for human activities and well-being. But, issues of water pollution<br />
and scarcity put this precious resource in peril. The Interfaith Environmental Network of Houston invites<br />
you to hear multiple faith perspectives on the topic of Faith &amp;amp; Water. A panel of speakers of a variety of<br />
faith backgrounds will each address this topic through the lens of their faith. An opportunity for Q&amp;amp;A<br />
with the panel will follow. People of all faiths are encouraged to attend, as&nbsp;are representatives of local<br />
environmental non-profits that would like to work with people of faith on environmental issues.&nbsp;&nbsp;Please<br />
join us!&nbsp;&nbsp;This event has been organized by the Interfaith Environmental Network of Houston, which acts<br />
to empower the faith community in the greater Houston area to act and advocate on behalf of the<br />
environment. Register for this event on www.eventbrite.com at:<br />
<a href="https://www.eventbrite.com/e/faith-perspectives-panel-faith-water-tickets-1975013719200">https://www.eventbrite.com/e/1975013719200</a>. All registrants will receive the recording of the event.<br />
For more information about this event, or the Interfaith Environmental Network of Houston, please<br />
contact Lisa Brenskelle at gcs.lrc@gmail.com.
PRIORITY:3
TRANSP:TRANSPARENT
BEGIN:VALARM
TRIGGER:-PT5M
ACTION:DISPLAY
DESCRIPTION:Reminder
END:VALARM
END:VEVENT
END:VCALENDAR
