BEGIN:VCALENDAR
VERSION:2.0
CALSCALE:GREGORIAN
METHOD:PUBLISH
PRODID://CEC//205429
BEGIN:VEVENT
DTSTAMP:20260419T115316
VTIMEZONE:America/Chicago
DTSTART:20260118T183000Z
DTEND:20260118T203000Z
UID:205429
SUMMARY:Meet Your Native Neighbors at Timbergrove Manor Park with White Oak Bayou Association
LOCATION:Timbergrove Manor Park, W. 11th Street and T.C. Jester, Houston, TX, 77008
DESCRIPTION:Meet Your Native Neighbors at Timbergrove Manor Park with White Oak Bayou Association\n\n01/18/26 12:30 PM CST\n - 01/18/26 02:30 PM CST\Description:\nYou're invited to join White Oak Bayou Association for a free, family-friendly community event exploring the neighborhood pocket prairie and the importance of native plants in the White Oak Watershed! Enjoy expert-led native plant talks, an iNaturalist demo, hands-on watershed activities, and refreshments while learning how pocket prairies support healthier bayous and communities. For more info: https://www.zeffy.com/en-US/ticketing/meet-your-native-neighbors\nWhen: Sunday, January 18th, from 12:30 to 2:30 PM\n\nWhere: The Pocket Prairie at the Corner of W 11th St & TC Jester in Timbergrove Manor Park\n\nParking: Available at Resurrection MCC, 2025 W 11th St, Houston, TX 77008\n\Location:\nTimbergrove Manor Park\nW. 11th Street and T.C. Jester\nHouston, TX 77008
X-ALT-DESC;FMTTYPE=text/html:Meet Your Native Neighbors at Timbergrove Manor Park with White Oak Bayou Association<br /><br />01/18/26 12:30 PM CST - 01/18/26 02:30 PM CST<br />Description:<br />You're invited to join White Oak&nbsp;Bayou Association&nbsp;for a free, family-friendly community event exploring the neighborhood pocket prairie and the importance of native plants in the White Oak Watershed! Enjoy expert-led native plant talks, an iNaturalist demo, hands-on watershed activities, and refreshments while learning how pocket prairies support healthier&nbsp;bayous&nbsp;and communities. For more info:&nbsp;<a href="https://www.zeffy.com/en-US/ticketing/meet-your-native-neighbors">https://www.zeffy.com/en-US/ticketing/meet-your-native-neighbors</a>
<p><strong>When:</strong>&nbsp;Sunday, January 18th, from 12:30 to 2:30 PM</p>

<p><strong>Where:&nbsp;</strong>The Pocket Prairie at the Corner of W 11th St &amp; TC Jester in Timbergrove Manor Park</p>

<p><strong>Parking:&nbsp;</strong>Available at Resurrection MCC, 2025 W 11th St, Houston, TX 77008</p>
<br />Location:<br />Timbergrove Manor Park<br />W. 11th Street and T.C. Jester<br />Houston, TX 77008
PRIORITY:3
TRANSP:TRANSPARENT
BEGIN:VALARM
TRIGGER:-PT5M
ACTION:DISPLAY
DESCRIPTION:Reminder
END:VALARM
END:VEVENT
END:VCALENDAR
