BEGIN:VCALENDAR
VERSION:2.0
CALSCALE:GREGORIAN
METHOD:PUBLISH
PRODID://CEC//205584
BEGIN:VEVENT
DTSTAMP:20260419T133809
VTIMEZONE:America/Chicago
DTSTART:20260214T150000Z
DTEND:20260214T180000Z
UID:205584
SUMMARY:Sierra Club to Conduct Service Outing at Indiangrass Prairie
LOCATION:, TX
DESCRIPTION:Sierra Club to Conduct Service Outing at Indiangrass Prairie\n\n02/14/26 09:00 AM CST\n - 02/14/26 12:00 PM CST\Description:\nSaturday, February 14, 2026, 9 am to noon, the Houston Sierra Club will work with the Coastal Prairie Conservancy (CPC) at its’ Indian Grass Prairie Preserve (IGP) for a service outing. We’ll enjoy camaraderie and have lunch in the City of Katy. The Sierra Club gives back so that the Katy Prairie is protected for wildlife, solitude, quiet, and enjoyment.\n\nBring a daypack, 2 qt water, snacks, lunch money, camera, and clothes for the weather. It’s usually cold in February so wear long pants, long-sleeved shirt, and closed-toed shoes. No pets, firearms, or radios. Put cell phones on vibrate and enjoy the solitude, quiet, and natural sounds of the Katy Prairie.\n\nA Sierra Club sign-in agreement/liability waiver must be filled out/signed by all participants at the IGP. Group size is 20 participants, plus your leader. The following link has a participant sign-in agreement/liability waiver. Please read this before the outing so that you know what it says, we can sign-in quickly, and proceed with the outing. [Sign-Up Sheet 2-2020.pdf (sierraclub.org)](https://www.sierraclub.org/sites/www.sierraclub.org/files/sce/range-of-light-group/PDFs/Sign-Up%20Sheet%202-2020.pdf).\n\nBefore the outing, you must sign the CPS’s “Stewardship Saturdays” volunteer application and waiver of liability at their website: www.coastalprairieconservancy.org, where you click on “Get Involved”, “Volunteer”, “Stewardship Saturdays”, and “Go to Event Calendar”.\n\nIf you have COVID symptoms or are sick don’t come! We want everyone to be safe. We’ll be with individuals who are vaccinated/unvaccinated. It’s each person’s choice to participate in this outing.\n\nFor voluntary carpooling from Houston, meet on the W side of Starbucks in Meyerland Plaza, 7:30 am, sharp! Look for a gray Honda CRV hybrid (WMP 3632). Directions to the IGP are:\n\n1. W from Hou on I-10 to Pederson Rd.\n2) Exit Pederson Rd, turn rt, go N to US Hwy 90.\n3) Turn lt on Hwy 90, go W 100 yds, turn rt on Morrison Rd/FM 2855.\n4) Go N on Morrison Rd, past FM 529, to Pattison Rd.\n5) Turn rt on Pattison Rd, go N to Herbert Rd.\n6) Turn lt on Herbert Rd, go W 1 mile, turn lt into entrance for IGP, 31975 Herbert Rd, Waller, Tx 77484.
X-ALT-DESC;FMTTYPE=text/html:Sierra Club to Conduct Service Outing at Indiangrass Prairie<br /><br />02/14/26 09:00 AM CST - 02/14/26 12:00 PM CST<br />Description:<br />Saturday, February 14, 2026, 9 am to noon, the Houston Sierra Club will work with the Coastal Prairie Conservancy (CPC) at its&rsquo; Indian Grass Prairie Preserve (IGP) for a service outing. We&rsquo;ll enjoy camaraderie and have lunch in the City of Katy. The Sierra Club gives back so that the Katy Prairie is protected for wildlife, solitude, quiet, and enjoyment.<br />
<br />
Bring a daypack, 2 qt water, snacks, lunch money, camera, and clothes for the weather. It&rsquo;s usually cold in February so wear long pants, long-sleeved shirt, and closed-toed shoes. No pets, firearms, or radios. Put cell phones on vibrate and enjoy the solitude, quiet, and natural sounds of the Katy Prairie.<br />
<br />
A Sierra Club sign-in agreement/liability waiver must be filled out/signed by all participants at the IGP. Group size is 20 participants, plus your leader. The following link has a participant sign-in agreement/liability waiver. Please read this before the outing so that you know what it says, we can sign-in quickly, and proceed with the outing. [Sign-Up Sheet&nbsp;<a href="http://2-2020.pdf/" rel="nofollow ugc" target="_blank">2-2020.pdf</a>&nbsp;(<a href="http://sierraclub.org/" rel="nofollow ugc" target="_blank">sierraclub.org</a>)](<a href="https://www.sierraclub.org/sites/www.sierraclub.org/files/sce/range-of-light-group/PDFs/Sign-Up%20Sheet%202-2020.pdf" rel="nofollow ugc" target="_blank">https://www.sierraclub.org/sites/www.sierraclub.org/files/sce/range-of-light-group/PDFs/Sign-Up%20Sheet%202-2020.pdf</a>).<br />
<br />
Before the outing, you must sign the CPS&rsquo;s &ldquo;Stewardship Saturdays&rdquo; volunteer application and waiver of liability at their website:&nbsp;<a href="http://www.coastalprairieconservancy.org/" rel="nofollow ugc" target="_blank">www.coastalprairieconservancy.org</a>, where you click on &ldquo;Get Involved&rdquo;, &ldquo;Volunteer&rdquo;, &ldquo;Stewardship Saturdays&rdquo;, and &ldquo;Go to Event Calendar&rdquo;.<br />
<br />
If you have COVID symptoms or are sick don&rsquo;t come! We want everyone to be safe. We&rsquo;ll be with individuals who are vaccinated/unvaccinated. It&rsquo;s each person&rsquo;s choice to participate in this outing.<br />
<br />
For voluntary carpooling from Houston, meet on the W side of Starbucks in Meyerland Plaza, 7:30 am, sharp! Look for a gray Honda CRV hybrid (WMP 3632). Directions to the IGP are:<br />
<br />
1. W from Hou on I-10 to Pederson Rd.<br />
2) Exit Pederson Rd, turn rt, go N to US Hwy 90.<br />
3) Turn lt on Hwy 90, go W 100 yds, turn rt on Morrison Rd/FM 2855.<br />
4) Go N on Morrison Rd, past FM 529, to Pattison Rd.<br />
5) Turn rt on Pattison Rd, go N to Herbert Rd.<br />
6) Turn lt on Herbert Rd, go W 1 mile, turn lt into entrance for IGP, 31975 Herbert Rd, Waller, Tx 77484.
PRIORITY:3
TRANSP:TRANSPARENT
BEGIN:VALARM
TRIGGER:-PT5M
ACTION:DISPLAY
DESCRIPTION:Reminder
END:VALARM
END:VEVENT
END:VCALENDAR
