BEGIN:VCALENDAR
VERSION:2.0
CALSCALE:GREGORIAN
METHOD:PUBLISH
PRODID://CEC//205585
BEGIN:VEVENT
DTSTAMP:20260419T133717
VTIMEZONE:America/Chicago
DTSTART:20260116T003000Z
DTEND:20260116T023000Z
UID:205585
SUMMARY:31st Annual MLK Birthday Observanceâ€‚â€We Got Us: Health & Care Beyond Capitalismâ€ 
LOCATION:, TX
DESCRIPTION:31st Annual MLK Birthday Observanceâ€‚â€We Got Us: Health & Care Beyond Capitalismâ€ \n\n01/15/26 06:30 PM CST\n - 01/15/26 08:30 PM CST\Description:\nFeaturing keynote remarks by Dr. Ricardo Nuila | Associate Professor of Medicine, Medical Ethics & Health Policy at Baylor College of Medicine\nPay What You Can $5-25, general admission chair seating\nFollowed by reception & book signing of The People’s Hospital: Hope and Peril in American Medicine\n\nREGISTER\n\nIn 1979, the Rothko Chapel started an annual MLK Birthday Observance to connect the contemporary implications of Rev. Dr. Martin Luther King Jr.’s legacy to the ongoing struggle for civil and human rights, captured through artist Barnett Newman’s sculpture Broken Obelisk (1968) on the Plaza dedicated to Dr. King. From 2024-2026, Rothko Chapel Public Programming focuses on health justice and equity, including conversations, performances, and meditations on community wellness. As we navigate a world that is increasingly violent, stressed, sick, isolated, and divided, we explore our unique responsibilities and skills to contribute to our collective physical and spiritual health. \n\nDr. King emphasized that access to quality healthcare is a fundamental human right, and he demonstrated how systematized poverty and worker exploitation serve as governmental policies of disease and violence. This year’s program will explore the relationships between health accessibility and economic systems, noting barriers to care under capitalism, as well as creative community-based efforts offering collective health services outside of traditional models. Dr. Ricardo Nuila will provide a keynote address, followed by a panel conversation with Houston-based advocates for supporting broader health ecosystems beyond the medical industrial complex including: moderator Josie Pickens, Program Director, upEND Movement; panelist Krish Gundu, Executive Director, Texas Jail Project; panelist Kay Matthews, Executive Director, Shades of Blue Project.\n
X-ALT-DESC;FMTTYPE=text/html:31st Annual MLK Birthday Observanceâ€‚â€We Got Us: Health & Care Beyond Capitalismâ€ <br /><br />01/15/26 06:30 PM CST - 01/15/26 08:30 PM CST<br />Description:<br /><p><strong>Featuring keynote remarks by Dr. Ricardo Nuila |&nbsp;Associate Professor of Medicine, Medical Ethics&nbsp;&amp; Health Policy at Baylor College of Medicine</strong><br />
<strong>Pay What You Can $5-25, general admission chair seating<br />
Followed by reception &amp; book signing of&nbsp;<a href="https://www.ricardonuila.com/"><em>The People&rsquo;s Hospital: Hope and Peril in American Medicine</em></a><br />
<br />
<a href="https://rothkochapel.doubleknot.com/registration/reglogon.aspx?signon=&amp;formPresets=&amp;activitykey=3120474">REGISTER</a></strong></p>

<p>In 1979, the Rothko Chapel started an annual MLK Birthday Observance to connect the contemporary implications of Rev. Dr. Martin Luther King Jr.&rsquo;s legacy to the ongoing struggle for civil and human rights, captured through artist Barnett Newman&rsquo;s sculpture&nbsp;<em>Broken Obelisk</em>&nbsp;(1968) on the Plaza dedicated to Dr. King.&nbsp;From 2024-2026, Rothko Chapel Public Programming focuses on health justice and equity, including conversations, performances, and meditations on community wellness. As we navigate a world that is increasingly violent, stressed, sick, isolated, and divided, we explore our unique responsibilities and skills to contribute to our collective physical and spiritual health.&nbsp;<br />
<br />
Dr. King emphasized that access to quality healthcare is a fundamental human right, and he demonstrated how systematized poverty and worker exploitation serve as governmental policies of disease and violence. This year&rsquo;s program will explore the relationships between health accessibility and economic systems, noting barriers to care under capitalism, as well as creative community-based efforts offering collective health services outside of traditional models.&nbsp;<strong>Dr. Ricardo Nuila</strong>&nbsp;will provide a keynote address, followed by a panel conversation with Houston-based advocates for supporting broader health ecosystems beyond the medical industrial complex including: moderator&nbsp;<strong>Josie Pickens</strong>, Program Director, upEND Movement; panelist&nbsp;<strong>Krish Gundu</strong>, Executive Director, Texas Jail Project; panelist&nbsp;<strong>Kay Matthews</strong>, Executive Director, Shades of Blue Project.</p>

PRIORITY:3
TRANSP:TRANSPARENT
BEGIN:VALARM
TRIGGER:-PT5M
ACTION:DISPLAY
DESCRIPTION:Reminder
END:VALARM
END:VEVENT
END:VCALENDAR
