BEGIN:VCALENDAR
VERSION:2.0
CALSCALE:GREGORIAN
METHOD:PUBLISH
PRODID://CEC//205589
BEGIN:VEVENT
DTSTAMP:20260419T133718
VTIMEZONE:America/Chicago
DTSTART:20260130T160000Z
DTEND:20260130T180000Z
UID:205589
SUMMARY:Green Wave Volunteer Cleanup at Freed Art Nature Park
LOCATION:Freed Art Nature Park, 212 Parkview St, Houston, TX, 77009
DESCRIPTION:Green Wave Volunteer Cleanup at Freed Art Nature Park\n\n01/30/26 10:00 AM CST\n - 01/30/26 12:00 PM CST\Description:\nVisit ayw.givepulse.com to sign up. \n\nAmerican Youthworks Texas Conservation Corps (TXCC) is hosting a Green Wave Clean-Up Event on Friday, January 30, at Freed Art Nature Park from 10am to noon. Due to limited parking, volunteers will park at Woodland Park. See the event signup page for details.\n\nThis event is part of our ongoing Green Wave Initiative. Led by TXCC participants, the Green Wave Initiative combines community cleanup events with environmental education. Come pick up litter with us! Attend our events to help improve neighborhood health, reduce flood hazards and illegal waste disposal, and to enhance green space accessibility.\n\n• All ages are welcome!\n\n• Closed shoes are required\n\n• Gloves, grabbers, and safety vests are provided\n\n• Pants are recommended\n\nReach out to the coordination team by emailing GreenWave@ayw.org if you have any questions.\n\nPlease sign up so they know to expect you!\n\Location:\nFreed Art Nature Park\n212 Parkview St\nHouston, TX 77009
X-ALT-DESC;FMTTYPE=text/html:Green Wave Volunteer Cleanup at Freed Art Nature Park<br /><br />01/30/26 10:00 AM CST - 01/30/26 12:00 PM CST<br />Description:<br /><p dir="ltr">Visit&nbsp;<a data-saferedirecturl="https://www.google.com/url?q=http://ayw.givepulse.com/&amp;source=gmail&amp;ust=1768432873723000&amp;usg=AOvVaw1LbcZXPkKF1FqQt5xP3677" href="http://ayw.givepulse.com/" target="_blank">ayw.givepulse.com</a>&nbsp;to sign up.&nbsp;</p>

<p dir="ltr"><a data-saferedirecturl="https://www.google.com/url?q=https://americanyouthworks.org/&amp;source=gmail&amp;ust=1768432873723000&amp;usg=AOvVaw2BTv-8iJAdrlZmBWoy7Jrq" href="https://americanyouthworks.org/" target="_blank">American Youthworks</a>&nbsp;Texas Conservation Corps (TXCC) is hosting a Green Wave Clean-Up Event on Friday, January 30, at Freed Art Nature Park from 10am to noon. Due to limited parking, volunteers will park at Woodland Park. See the event signup page for details.</p>

<p dir="ltr">This event is part of our ongoing&nbsp;<a data-saferedirecturl="https://www.google.com/url?q=https://texanbynature.org/projects/the-green-wave-initiative/&amp;source=gmail&amp;ust=1768432873723000&amp;usg=AOvVaw00J9iRLzjRuW0OK7xm7-Sm" href="https://texanbynature.org/projects/the-green-wave-initiative/" target="_blank">Green Wave Initiative</a>. Led by TXCC participants, the Green Wave Initiative combines community cleanup events with environmental education. Come pick up litter with us! Attend our events to help improve neighborhood health, reduce flood hazards and illegal waste disposal, and to enhance green space accessibility.</p>

<p dir="ltr">&bull; All ages are welcome!</p>

<p dir="ltr">&bull; Closed shoes are required</p>

<p dir="ltr">&bull; Gloves, grabbers, and safety vests are provided</p>

<p dir="ltr">&bull; Pants are recommended</p>

<p dir="ltr">Reach out to the&nbsp;coordination team&nbsp;by emailing&nbsp;<a href="mailto:GreenWave@ayw.org" target="_blank">GreenWave@ayw.org</a>&nbsp;if you have any questions.</p>

<p dir="ltr">Please sign up so they&nbsp;know to expect you!</p>
<br />Location:<br />Freed Art Nature Park<br />212 Parkview St<br />Houston, TX 77009
PRIORITY:3
TRANSP:TRANSPARENT
BEGIN:VALARM
TRIGGER:-PT5M
ACTION:DISPLAY
DESCRIPTION:Reminder
END:VALARM
END:VEVENT
END:VCALENDAR
