BEGIN:VCALENDAR
VERSION:2.0
CALSCALE:GREGORIAN
METHOD:PUBLISH
PRODID://CEC//205590
BEGIN:VEVENT
DTSTAMP:20260419T133807
VTIMEZONE:America/Chicago
DTSTART:20260213T160000Z
DTEND:20260213T180000Z
UID:205590
SUMMARY:Green Wave Volunteer Cleanup at Hidalgo Park
LOCATION:Hidalgo Park, 7000 Avenue Q, Houston, TX, 77011
DESCRIPTION:Green Wave Volunteer Cleanup at Hidalgo Park\n\n02/13/26 10:00 AM CST\n - 02/13/26 12:00 PM CST\Description:\n\nDescription:\n\nVisit ayw.givepulse.com to sign up. \n\nAmerican Youthworks Texas Conservation Corps (TXCC) is hosting a Green Wave Clean-Up Event on Friday, February 13, at Hidalgo Park from 10am to noon. \n\nThis event is part of their ongoing Green Wave Initiative. Led by TXCC participants, the Green Wave Initiative combines community cleanup events with environmental education. Come pick up litter with us! Attend our events to help improve neighborhood health, reduce flood hazards and illegal waste disposal, and to enhance green space accessibility.\n\n\n• All ages are welcome!\n\n• Closed shoes are required\n\n• Gloves, grabbers, and safety vests are provided\n\n• Pants are recommended\n\nReach out to the coordination team by emailing GreenWave@ayw.org if you have any questions.\n\nPlease sign up so they know to expect you!\Location:\nHidalgo Park\n7000 Avenue Q\nHouston, TX 77011
X-ALT-DESC;FMTTYPE=text/html:Green Wave Volunteer Cleanup at Hidalgo Park<br /><br />02/13/26 10:00 AM CST - 02/13/26 12:00 PM CST<br />Description:<br /><br />
Description:<br />
<br />
Visit ayw.givepulse.com to sign up.&nbsp;<br />
<br />
American Youthworks Texas Conservation Corps (TXCC) is hosting a Green Wave Clean-Up Event on Friday, February 13, at Hidalgo Park from 10am to noon.&nbsp;<br />
<br />
This event is part of their ongoing Green Wave Initiative. Led by TXCC participants, the Green Wave Initiative combines community cleanup events with environmental education. Come pick up litter with us! Attend our events to help improve neighborhood health, reduce flood hazards and illegal waste disposal, and to enhance green space accessibility.<br />
<br />
<br />
&bull; All ages are welcome!<br />
<br />
&bull; Closed shoes are required<br />
<br />
&bull; Gloves, grabbers, and safety vests are provided<br />
<br />
&bull; Pants are recommended<br />
<br />
Reach out to the&nbsp;coordination team by emailing GreenWave@ayw.org if you have any questions.<br />
<br />
Please sign up so they know to expect you!<br />Location:<br />Hidalgo Park<br />7000 Avenue Q<br />Houston, TX 77011
PRIORITY:3
TRANSP:TRANSPARENT
BEGIN:VALARM
TRIGGER:-PT5M
ACTION:DISPLAY
DESCRIPTION:Reminder
END:VALARM
END:VEVENT
END:VCALENDAR
