BEGIN:VCALENDAR
VERSION:2.0
CALSCALE:GREGORIAN
METHOD:PUBLISH
PRODID://CEC//205592
BEGIN:VEVENT
DTSTAMP:20260419T115316
VTIMEZONE:America/Chicago
DTSTART:20260124T160000Z
DTEND:20260124T200000Z
UID:205592
SUMMARY:Arbor Day Celebration
LOCATION:, 120 West Loop North (between Post Oak Boulevard and Woodway Drive), Houston, TX, 77024
DESCRIPTION:Arbor Day Celebration\n\n01/24/26 10:00 AM CST\n - 01/24/26 02:00 PM CST\Description:\nHouston Arboretum & Nature Center hosts its annual Arbor Day Celebration, the perfect time to recognize the importance of trees and all they do for us. Test your skills with lumberjack games, build a fairy house, explore the forest on a self-guided hike, and you may even meet Johnny Appleseed. There will be plenty of tree activities and crafts to enjoy. Crafts will be available while supplies last.\n \nPut simply, trees promote life. Not only do they produce oxygen and sequester carbon dioxide, but trees also provide homes for animals, recharge groundwater, replace soil nitrates, prevent erosion and offer shade to keep us cool. Trees provide us with food, and medicines, while also bringing natural beauty to the earth. This is why the Houston Arboretum has a program dedicated to Arbor Day each year.\nCOST: Admission to Arbor Day is free; all are welcome.\n \nPARKING: Parking is free for the duration of the event.\n \nMORE: The program will be held rain or shine – please dress for the weather.\n \nFor more information about Arbor Day, go to https://houstonarboretum.org/event/arbor-day-celebration/ or click here. To join the Arboretum and enjoy all the benefits of membership, visit houstonarboretum.org or call 713-681-8433.\n \Location:\n\n120 West Loop North (between Post Oak Boulevard and Woodway Drive)\nHouston, TX 77024
X-ALT-DESC;FMTTYPE=text/html:Arbor Day Celebration<br /><br />01/24/26 10:00 AM CST - 01/24/26 02:00 PM CST<br />Description:<br />Houston Arboretum &amp; Nature Center hosts its annual Arbor Day Celebration, the perfect time to recognize the importance of trees and all they do for us. Test your skills with lumberjack games, build a fairy house, explore the forest on a self-guided hike, and you may even meet Johnny Appleseed. There will be plenty of tree activities and crafts to enjoy. Crafts will be available while supplies last.<br />
&nbsp;<br />
Put simply, trees promote life. Not only do they produce oxygen and sequester carbon dioxide, but trees also provide homes for animals, recharge groundwater, replace soil nitrates, prevent erosion and offer shade to keep us cool. Trees provide us with food, and medicines, while also bringing natural beauty to the earth. This is why the Houston Arboretum has a program dedicated to Arbor Day each year.<br />
<strong>COST</strong>: Admission to Arbor Day is free; all are welcome.<br />
&nbsp;<br />
<strong>PARKING:&nbsp;</strong>Parking is free for the duration of the event.<br />
&nbsp;<br />
<strong>MORE</strong>: The program will be held rain or shine &ndash; please dress for the weather.<br />
&nbsp;<br />
For more information about Arbor Day, go to&nbsp;<a data-saferedirecturl="https://www.google.com/url?q=https://houstonarboretum.org/event/arbor-day-celebration/&amp;source=gmail&amp;ust=1768432570375000&amp;usg=AOvVaw3oLihMIkXUiTFkHvva6cfP" href="https://houstonarboretum.org/event/arbor-day-celebration/" target="_blank">https://houstonarboretum.org/<wbr />event/arbor-day-celebration/</a>&nbsp;or click&nbsp;<a data-saferedirecturl="https://www.google.com/url?q=https://houstonarboretum.org/event/arbor-day-celebration/&amp;source=gmail&amp;ust=1768432570375000&amp;usg=AOvVaw3oLihMIkXUiTFkHvva6cfP" href="https://houstonarboretum.org/event/arbor-day-celebration/" target="_blank">here.</a>&nbsp;To join the Arboretum and enjoy all the benefits of membership, visit&nbsp;<a data-saferedirecturl="https://www.google.com/url?q=http://houstonarboretum.org/events/pollinator-plant-sale/&amp;source=gmail&amp;ust=1768432570375000&amp;usg=AOvVaw0WCMEmOsWZ8hTCAOHiKHOn" href="http://houstonarboretum.org/events/pollinator-plant-sale/" target="_blank">houstonarboretum.org</a>&nbsp;or call 713-681-8433.<br />
&nbsp;<br />Location:<br /><br />120 West Loop North (between Post Oak Boulevard and Woodway Drive)<br />Houston, TX 77024
PRIORITY:3
TRANSP:TRANSPARENT
BEGIN:VALARM
TRIGGER:-PT5M
ACTION:DISPLAY
DESCRIPTION:Reminder
END:VALARM
END:VEVENT
END:VCALENDAR
