BEGIN:VCALENDAR
VERSION:2.0
CALSCALE:GREGORIAN
METHOD:PUBLISH
PRODID://CEC//205678
BEGIN:VEVENT
DTSTAMP:20260419T133622
VTIMEZONE:America/Chicago
DTSTART:20260117T140000Z
DTEND:20260117T180000Z
UID:205678
SUMMARY:Tree Planting at Exploration Green
LOCATION:Exploration Green Phase 5, TX
DESCRIPTION:Tree Planting at Exploration Green\n\n01/17/26 08:00 AM CST\n - 01/17/26 12:00 PM CST\Description:\n8 AM - 12 PM\n\nLocation: Phase 5 is the last section of Exploration Green to be planted. It is located between Bay Area and Neptune, with parking available at the Phase 5 parking lot on Bay Area or on Seakale\n\nBring a refillable water bottle, gloves, and shoes that can get muddy!\n\nFill out fee and waiver form.\n\Location:\nExploration Green Phase 5\n\n, TX
X-ALT-DESC;FMTTYPE=text/html:Tree Planting at Exploration Green<br /><br />01/17/26 08:00 AM CST - 01/17/26 12:00 PM CST<br />Description:<br /><p>8 AM - 12 PM</p>

<p>Location: Phase 5 is the last section of Exploration Green to be planted. It is located between Bay Area and Neptune, with parking available at the Phase 5 parking lot on Bay Area or on Seakale</p>

<p>Bring a refillable water bottle, gloves, and shoes that can get muddy!<br />
<br />
<a href="https://forms.office.com/pages/responsepage.aspx?id=RL55975_SE2LHM9RAMQ4MWKmmGLiYSBAt8y__QZsW-RUQllISURFSE1NRlc1Rk1HU05TR1k3Q0NNOC4u&amp;route=shorturl&amp;utm_source=ig&amp;utm_medium=social&amp;utm_content=link_in_bio&amp;fbclid=PAZXh0bgNhZW0CMTEAc3J0YwZhcHBfaWQMMjU2MjgxMDQwNTU4AAGnICnWTy9W4GwGf1bfLUoxBcV_lDBSvO6L3CxW5Uvv-F5zH2W54KOJlls5N6Q_aem_dU-0iOkwbrkjsrZa9XZLjQ">Fill out fee and waiver form</a>.</p>
<br />Location:<br />Exploration Green Phase 5<br /><br />, TX 
PRIORITY:3
TRANSP:TRANSPARENT
BEGIN:VALARM
TRIGGER:-PT5M
ACTION:DISPLAY
DESCRIPTION:Reminder
END:VALARM
END:VEVENT
END:VCALENDAR
