BEGIN:VCALENDAR
VERSION:2.0
CALSCALE:GREGORIAN
METHOD:PUBLISH
PRODID://CEC//205988
BEGIN:VEVENT
DTSTAMP:20260419T133849
VTIMEZONE:America/Chicago
DTSTART:20260123T000000Z
DTEND:20260123T010000Z
UID:205988
SUMMARY:Going GREEN Lecture: Rooted in Stewardship - Ecology, Conservation, and Education in Texas Forests
LOCATION:https://zoom.us/j/99700554058, 187 West Greywing Circle, The Woodlands, TX, 77382
DESCRIPTION:Going GREEN Lecture: Rooted in Stewardship - Ecology, Conservation, and Education in Texas Forests\n\n01/22/26 06:00 PM CST\n - 01/22/26 07:00 PM CST\Description:\nThis online presentation is part of The Woodlands GREEN Going GREEN Sustainability Lecture Series. \Details:\nJoin us for this online lecture for an engaging overview of forest ecology and the history of forestry in Texas, highlighting the unique role of W.G. Jones State Forest. Participants will explore past and current management practices, including conservation of the Redâ€‘Cockaded Woodpecker, implementation of Best Management Practices, and ongoing education and outreach efforts. The session also showcases current initiatives such as the native tree and plant nursery project and how they support forest health, research, and community stewardship.\n\nJaden Kelly is a Conservation Education Program Specialist with the Texas A&M Forest Service, where he leads education, outreach, and service programs at the W.G. Jones State Forest and across the Greater Houston Region. Jaden also co-coordinates Project Learning Tree for the State of Texas, helping educators and community partners connect children to forests and natural resources through handsâ€‘on learning.\Location:\nhttps://zoom.us/j/99700554058\n187 West Greywing Circle\nThe Woodlands, TX 77382
X-ALT-DESC;FMTTYPE=text/html:Going GREEN Lecture: Rooted in Stewardship - Ecology, Conservation, and Education in Texas Forests<br /><br />01/22/26 06:00 PM CST - 01/22/26 07:00 PM CST<br />Description:<br />This online presentation is part of The Woodlands GREEN Going GREEN Sustainability Lecture Series.&nbsp;<br />Details:<br />Join us for this online lecture for an engaging overview of forest ecology and the history of forestry in Texas, highlighting the unique role of W.G. Jones State Forest. Participants will explore past and current management practices, including conservation of the Redâ€‘Cockaded Woodpecker, implementation of Best Management Practices, and ongoing education and outreach efforts. The session also showcases current initiatives such as the native tree and plant nursery project and how they support forest health, research, and community stewardship.<br />
<br />
Jaden Kelly is a Conservation Education Program Specialist with the&nbsp;<a href="https://www.google.com/url?q=https://tfsweb.tamu.edu/&amp;sa=D&amp;source=calendar&amp;usd=2&amp;usg=AOvVaw0j1odPzRyB6eZUAmf2cgLL" jslog="217751; track:impression" target="_blank">Texas A&amp;M Forest Service</a>, where he leads education, outreach, and service programs at the W.G. Jones State Forest and across the Greater Houston Region. Jaden also co-coordinates<a href="https://www.google.com/url?q=https://www.plt.org/&amp;sa=D&amp;source=calendar&amp;usd=2&amp;usg=AOvVaw0TroDLaaKMZYunOiHwCQDl" jslog="217751; track:impression" target="_blank">&nbsp;Project Learning Tree</a>&nbsp;for the State of Texas, helping educators and community partners connect children to forests and natural resources through handsâ€‘on learning.<br />Location:<br />https://zoom.us/j/99700554058<br />187 West Greywing Circle<br />The Woodlands, TX 77382
PRIORITY:3
TRANSP:TRANSPARENT
BEGIN:VALARM
TRIGGER:-PT5M
ACTION:DISPLAY
DESCRIPTION:Reminder
END:VALARM
END:VEVENT
END:VCALENDAR
