BEGIN:VCALENDAR
VERSION:2.0
CALSCALE:GREGORIAN
METHOD:PUBLISH
PRODID://CEC//205989
BEGIN:VEVENT
DTSTAMP:20260419T133636
VTIMEZONE:America/Chicago
DTSTART:20260104T220000Z
DTEND:20260215T230000Z
UID:205989
SUMMARY: "We could do this, end the climate crisis" 
LOCATION:zoom link for registered attendees,  , Houston, Tx, 77021-4021
DESCRIPTION:"We could do this, end the climate crisis" \n\n01/04/26 04:00 PM CST\n - 02/15/26 05:00 PM CST\Description:\n \n"We could do this, end the climate crisis", a study group of the new bestseller by Bill McKibben, Here Comes the Sun. on Sundays, 4 p.m., central, from January 4 to February 15.  \n\n Hosted by Third Act Texas.  \n\n \Details:\nFree.  See weblink for reading schedule.  \Location:\nzoom link for registered attendees\n \nHouston, Tx 77021-4021
X-ALT-DESC;FMTTYPE=text/html: "We could do this, end the climate crisis" <br /><br />01/04/26 04:00 PM CST - 02/15/26 05:00 PM CST<br />Description:<br /><p>&nbsp;</p>
&quot;<a href="https://www.eventbrite.com/e/we-could-do-this-end-the-climate-crisis-says-bill-mckibben-tickets-1898978689379?aff=oddtdtcreator" moz-do-not-send="true" onclick="window.open(this.href, '', 'resizable=no,status=no,location=no,toolbar=no,menubar=no,fullscreen=no,scrollbars=no,dependent=no'); return false;">We could do this, end the climate crisis</a>&quot;, a study group of the new bestseller by Bill McKibben,<u> Here Comes the Sun</u>. on Sundays, 4 p.m., central, from January 4 to February 15.&nbsp;&nbsp;

<p>&nbsp;Hosted by Third Act Texas.&nbsp;&nbsp;</p>
<br type="_moz" />
&nbsp;<br />Details:<br />Free.&nbsp; See weblink for reading schedule.&nbsp;&nbsp;<br />Location:<br />zoom link for registered attendees<br /> <br />Houston, Tx 77021-4021
PRIORITY:3
TRANSP:TRANSPARENT
BEGIN:VALARM
TRIGGER:-PT5M
ACTION:DISPLAY
DESCRIPTION:Reminder
END:VALARM
END:VEVENT
END:VCALENDAR
