BEGIN:VCALENDAR
VERSION:2.0
CALSCALE:GREGORIAN
METHOD:PUBLISH
PRODID://CEC//206103
BEGIN:VEVENT
DTSTAMP:20260419T133623
VTIMEZONE:America/Chicago
DTSTART:20260130T010000Z
DTEND:20260130T030000Z
UID:206103
SUMMARY:TAEP - The New Year Social
LOCATION:, 1504 Chapman St. , Houston, TX, 77009
DESCRIPTION:TAEP - The New Year Social\n\n01/29/26 07:00 PM CST\n - 01/29/26 09:00 PM CST\Description:\n\n	\n		\n			Get the new year started right and join us for a fun celebration, door prizes, and as always, great networking!\n			\n			Cost: $45 per individual tickets ($55 for non-members)\n			Included: Gristworkz draft beers, wine, and non-alcoholic beverages. Assorted appetizers will be provided by Gristworkz.\n			Proceeds help support our student scholarships!\n		\n	\n\n\n\n	\n		\n			Register Here\n		\n	\n\n\n\n	\n		\n			\n			Registration deadline is 12 NOON on Wednesday, January 28th, 2026 or when we reach 100 attendees (whichever comes first) - Currently 33% FULL\n			\n		\n	\n\n\Location:\n\n1504 Chapman St. \nHouston, TX 77009
X-ALT-DESC;FMTTYPE=text/html:TAEP - The New Year Social<br /><br />01/29/26 07:00 PM CST - 01/29/26 09:00 PM CST<br />Description:<br /><table border="0" role="presentation" style="width:100%">
	<tbody>
		<tr>
			<td align="left">Get the new year started right and join us for a fun celebration, door prizes, and as always, great networking!<br />
			<br />
			Cost: $45 per individual tickets ($55 for non-members)<br />
			Included: Gristworkz draft beers, wine, and non-alcoholic beverages. Assorted appetizers will be provided by Gristworkz.<br />
			<em><strong>Proceeds help support our student scholarships!</strong></em></td>
		</tr>
	</tbody>
</table>

<table border="0" role="presentation" style="width:100%">
	<tbody>
		<tr>
			<td align="left"><a data-saferedirecturl="https://www.google.com/url?q=http://taep.memberclicks.net/message2/link/52068023-3303-4557-9dfa-8d75b478d2f0/2&amp;source=gmail&amp;ust=1769044054503000&amp;usg=AOvVaw37qNxKsTlgOQOk7VmkPmNq" href="http://taep.memberclicks.net/message2/link/52068023-3303-4557-9dfa-8d75b478d2f0/2" target="_blank">Register Here</a></td>
		</tr>
	</tbody>
</table>

<table border="0" role="presentation" style="width:100%">
	<tbody>
		<tr>
			<td align="left">
			<p><em><strong>Registration deadline is 12 NOON on Wednesday, January 28<sup>th</sup>, 2026 or when we reach 100 attendees (whichever comes first) -&nbsp;Currently 33% FULL</strong></em></p>
			</td>
		</tr>
	</tbody>
</table>
<br />Location:<br /><br />1504 Chapman St. <br />Houston, TX 77009
PRIORITY:3
TRANSP:TRANSPARENT
BEGIN:VALARM
TRIGGER:-PT5M
ACTION:DISPLAY
DESCRIPTION:Reminder
END:VALARM
END:VEVENT
END:VCALENDAR
