BEGIN:VCALENDAR
VERSION:2.0
CALSCALE:GREGORIAN
METHOD:PUBLISH
PRODID://CEC//206105
BEGIN:VEVENT
DTSTAMP:20260419T133805
VTIMEZONE:America/Chicago
DTSTART:20260125T000000Z
DTEND:20260125T020000Z
UID:206105
SUMMARY:Marine Debris Art Contest Event
LOCATION:, 2117A Postoffice Street, Galveston, TX, 77550
DESCRIPTION:Marine Debris Art Contest Event\n\n01/24/26 06:00 PM CST\n - 01/24/26 08:00 PM CST\Description:\nJoin Artist Boat to see who wins the Marine Debris Art Contest.  Art pieces are created with debris collected on local beaches.  Vote for the People’s Choice Award and see who will win part of $2,000 in cash prizes.\nhttps://www.artistboat.org/marine-debris-art-contest/\n \Location:\n\n2117A Postoffice Street\nGalveston, TX 77550
X-ALT-DESC;FMTTYPE=text/html:Marine Debris Art Contest Event<br /><br />01/24/26 06:00 PM CST - 01/24/26 08:00 PM CST<br />Description:<br />Join Artist Boat to see who wins the Marine Debris Art Contest. &nbsp;Art pieces are created with debris collected on local beaches. &nbsp;Vote for the People&rsquo;s Choice Award and see who will win part of $2,000 in cash prizes.<br />
<a data-saferedirecturl="https://www.google.com/url?q=https://www.artistboat.org/marine-debris-art-contest/&amp;source=gmail&amp;ust=1769044165828000&amp;usg=AOvVaw1WkarhVyU2alsaVOzTGJlA" href="https://www.artistboat.org/marine-debris-art-contest/" target="_blank">https://www.artistboat.org/<wbr />marine-debris-art-contest/</a><br />
&nbsp;<br />Location:<br /><br />2117A Postoffice Street<br />Galveston, TX 77550
PRIORITY:3
TRANSP:TRANSPARENT
BEGIN:VALARM
TRIGGER:-PT5M
ACTION:DISPLAY
DESCRIPTION:Reminder
END:VALARM
END:VEVENT
END:VCALENDAR
